BEGIN:VCALENDAR
VERSION:2.0
PRODID:-//Downtown Brooklyn - ECPv6.15.20//NONSGML v1.0//EN
CALSCALE:GREGORIAN
METHOD:PUBLISH
X-WR-CALNAME:Downtown Brooklyn
X-ORIGINAL-URL:https://www.downtownbrooklyn.com
X-WR-CALDESC:Events for Downtown Brooklyn
REFRESH-INTERVAL;VALUE=DURATION:PT1H
X-Robots-Tag:noindex
X-PUBLISHED-TTL:PT1H
BEGIN:VTIMEZONE
TZID:America/New_York
BEGIN:DAYLIGHT
TZOFFSETFROM:-0500
TZOFFSETTO:-0400
TZNAME:EDT
DTSTART:20290311T070000
END:DAYLIGHT
BEGIN:STANDARD
TZOFFSETFROM:-0400
TZOFFSETTO:-0500
TZNAME:EST
DTSTART:20291104T060000
END:STANDARD
BEGIN:DAYLIGHT
TZOFFSETFROM:-0500
TZOFFSETTO:-0400
TZNAME:EDT
DTSTART:20300310T070000
END:DAYLIGHT
BEGIN:STANDARD
TZOFFSETFROM:-0400
TZOFFSETTO:-0500
TZNAME:EST
DTSTART:20301103T060000
END:STANDARD
BEGIN:DAYLIGHT
TZOFFSETFROM:-0500
TZOFFSETTO:-0400
TZNAME:EDT
DTSTART:20310309T070000
END:DAYLIGHT
BEGIN:STANDARD
TZOFFSETFROM:-0400
TZOFFSETTO:-0500
TZNAME:EST
DTSTART:20311102T060000
END:STANDARD
END:VTIMEZONE
BEGIN:VEVENT
DTSTART;TZID=America/New_York:20300501T190000
DTEND;TZID=America/New_York:20300501T213000
DTSTAMP:20260423T051901
CREATED:20260421T195933Z
LAST-MODIFIED:20260421T195933Z
UID:10012448-1903892400-1903901400@www.downtownbrooklyn.com
SUMMARY:Sound + Fury Trivia Nights
DESCRIPTION:Wednesday night is Trivia Night at Sound + Fury\, where you can pit your trivia skills against others and compete for prizes. Craft beer and great food are\, of course\, all part of the evening’s festivities!
URL:https://www.downtownbrooklyn.com/event/sound-fury-trivia-nights/2030-05-01/
CATEGORIES:Games,Eat + Drink
ATTACH;FMTTYPE=image/jpeg:https://www.downtownbrooklyn.com/wp-content/uploads/2023/07/circa-brewing-people-drinking.jpg
END:VEVENT
BEGIN:VEVENT
DTSTART;TZID=America/New_York:20300508T190000
DTEND;TZID=America/New_York:20300508T213000
DTSTAMP:20260423T051902
CREATED:20260421T195933Z
LAST-MODIFIED:20260421T195933Z
UID:10012449-1904497200-1904506200@www.downtownbrooklyn.com
SUMMARY:Sound + Fury Trivia Nights
DESCRIPTION:Wednesday night is Trivia Night at Sound + Fury\, where you can pit your trivia skills against others and compete for prizes. Craft beer and great food are\, of course\, all part of the evening’s festivities!
URL:https://www.downtownbrooklyn.com/event/sound-fury-trivia-nights/2030-05-08/
CATEGORIES:Games,Eat + Drink
ATTACH;FMTTYPE=image/jpeg:https://www.downtownbrooklyn.com/wp-content/uploads/2023/07/circa-brewing-people-drinking.jpg
END:VEVENT
BEGIN:VEVENT
DTSTART;TZID=America/New_York:20300515T190000
DTEND;TZID=America/New_York:20300515T213000
DTSTAMP:20260423T051902
CREATED:20260421T195933Z
LAST-MODIFIED:20260421T195933Z
UID:10012450-1905102000-1905111000@www.downtownbrooklyn.com
SUMMARY:Sound + Fury Trivia Nights
DESCRIPTION:Wednesday night is Trivia Night at Sound + Fury\, where you can pit your trivia skills against others and compete for prizes. Craft beer and great food are\, of course\, all part of the evening’s festivities!
URL:https://www.downtownbrooklyn.com/event/sound-fury-trivia-nights/2030-05-15/
CATEGORIES:Games,Eat + Drink
ATTACH;FMTTYPE=image/jpeg:https://www.downtownbrooklyn.com/wp-content/uploads/2023/07/circa-brewing-people-drinking.jpg
END:VEVENT
BEGIN:VEVENT
DTSTART;TZID=America/New_York:20300522T190000
DTEND;TZID=America/New_York:20300522T213000
DTSTAMP:20260423T051902
CREATED:20260421T195933Z
LAST-MODIFIED:20260421T195933Z
UID:10012451-1905706800-1905715800@www.downtownbrooklyn.com
SUMMARY:Sound + Fury Trivia Nights
DESCRIPTION:Wednesday night is Trivia Night at Sound + Fury\, where you can pit your trivia skills against others and compete for prizes. Craft beer and great food are\, of course\, all part of the evening’s festivities!
URL:https://www.downtownbrooklyn.com/event/sound-fury-trivia-nights/2030-05-22/
CATEGORIES:Games,Eat + Drink
ATTACH;FMTTYPE=image/jpeg:https://www.downtownbrooklyn.com/wp-content/uploads/2023/07/circa-brewing-people-drinking.jpg
END:VEVENT
BEGIN:VEVENT
DTSTART;TZID=America/New_York:20300529T190000
DTEND;TZID=America/New_York:20300529T213000
DTSTAMP:20260423T051902
CREATED:20260421T195933Z
LAST-MODIFIED:20260421T195933Z
UID:10012452-1906311600-1906320600@www.downtownbrooklyn.com
SUMMARY:Sound + Fury Trivia Nights
DESCRIPTION:Wednesday night is Trivia Night at Sound + Fury\, where you can pit your trivia skills against others and compete for prizes. Craft beer and great food are\, of course\, all part of the evening’s festivities!
URL:https://www.downtownbrooklyn.com/event/sound-fury-trivia-nights/2030-05-29/
CATEGORIES:Games,Eat + Drink
ATTACH;FMTTYPE=image/jpeg:https://www.downtownbrooklyn.com/wp-content/uploads/2023/07/circa-brewing-people-drinking.jpg
END:VEVENT
END:VCALENDAR