BEGIN:VCALENDAR
VERSION:2.0
PRODID:-//Downtown Brooklyn - ECPv6.15.20//NONSGML v1.0//EN
CALSCALE:GREGORIAN
METHOD:PUBLISH
X-ORIGINAL-URL:https://www.downtownbrooklyn.com
X-WR-CALDESC:Events for Downtown Brooklyn
REFRESH-INTERVAL;VALUE=DURATION:PT1H
X-Robots-Tag:noindex
X-PUBLISHED-TTL:PT1H
BEGIN:VTIMEZONE
TZID:America/New_York
BEGIN:DAYLIGHT
TZOFFSETFROM:-0500
TZOFFSETTO:-0400
TZNAME:EDT
DTSTART:20300310T070000
END:DAYLIGHT
BEGIN:STANDARD
TZOFFSETFROM:-0400
TZOFFSETTO:-0500
TZNAME:EST
DTSTART:20301103T060000
END:STANDARD
BEGIN:DAYLIGHT
TZOFFSETFROM:-0500
TZOFFSETTO:-0400
TZNAME:EDT
DTSTART:20310309T070000
END:DAYLIGHT
BEGIN:STANDARD
TZOFFSETFROM:-0400
TZOFFSETTO:-0500
TZNAME:EST
DTSTART:20311102T060000
END:STANDARD
BEGIN:DAYLIGHT
TZOFFSETFROM:-0500
TZOFFSETTO:-0400
TZNAME:EDT
DTSTART:20320314T070000
END:DAYLIGHT
BEGIN:STANDARD
TZOFFSETFROM:-0400
TZOFFSETTO:-0500
TZNAME:EST
DTSTART:20321107T060000
END:STANDARD
END:VTIMEZONE
BEGIN:VEVENT
DTSTART;TZID=America/New_York:20310122T190000
DTEND;TZID=America/New_York:20310122T213000
DTSTAMP:20260421T192150
CREATED:20260421T195933Z
LAST-MODIFIED:20260421T195933Z
UID:10012486-1926874800-1926883800@www.downtownbrooklyn.com
SUMMARY:Sound + Fury Trivia Nights
DESCRIPTION:Wednesday night is Trivia Night at Sound + Fury\, where you can pit your trivia skills against others and compete for prizes. Craft beer and great food are\, of course\, all part of the evening’s festivities!
URL:https://www.downtownbrooklyn.com/event/sound-fury-trivia-nights/2031-01-22/
CATEGORIES:Games,Eat + Drink
ATTACH;FMTTYPE=image/jpeg:https://www.downtownbrooklyn.com/wp-content/uploads/2023/07/circa-brewing-people-drinking.jpg
END:VEVENT
BEGIN:VEVENT
DTSTART;TZID=America/New_York:20310129T190000
DTEND;TZID=America/New_York:20310129T213000
DTSTAMP:20260421T192150
CREATED:20260421T195933Z
LAST-MODIFIED:20260421T195933Z
UID:10012487-1927479600-1927488600@www.downtownbrooklyn.com
SUMMARY:Sound + Fury Trivia Nights
DESCRIPTION:Wednesday night is Trivia Night at Sound + Fury\, where you can pit your trivia skills against others and compete for prizes. Craft beer and great food are\, of course\, all part of the evening’s festivities!
URL:https://www.downtownbrooklyn.com/event/sound-fury-trivia-nights/2031-01-29/
CATEGORIES:Games,Eat + Drink
ATTACH;FMTTYPE=image/jpeg:https://www.downtownbrooklyn.com/wp-content/uploads/2023/07/circa-brewing-people-drinking.jpg
END:VEVENT
BEGIN:VEVENT
DTSTART;TZID=America/New_York:20310205T190000
DTEND;TZID=America/New_York:20310205T213000
DTSTAMP:20260421T192150
CREATED:20260421T195933Z
LAST-MODIFIED:20260421T195933Z
UID:10012488-1928084400-1928093400@www.downtownbrooklyn.com
SUMMARY:Sound + Fury Trivia Nights
DESCRIPTION:Wednesday night is Trivia Night at Sound + Fury\, where you can pit your trivia skills against others and compete for prizes. Craft beer and great food are\, of course\, all part of the evening’s festivities!
URL:https://www.downtownbrooklyn.com/event/sound-fury-trivia-nights/2031-02-05/
CATEGORIES:Games,Eat + Drink
ATTACH;FMTTYPE=image/jpeg:https://www.downtownbrooklyn.com/wp-content/uploads/2023/07/circa-brewing-people-drinking.jpg
END:VEVENT
BEGIN:VEVENT
DTSTART;TZID=America/New_York:20310212T190000
DTEND;TZID=America/New_York:20310212T213000
DTSTAMP:20260421T192150
CREATED:20260421T195933Z
LAST-MODIFIED:20260421T195933Z
UID:10012489-1928689200-1928698200@www.downtownbrooklyn.com
SUMMARY:Sound + Fury Trivia Nights
DESCRIPTION:Wednesday night is Trivia Night at Sound + Fury\, where you can pit your trivia skills against others and compete for prizes. Craft beer and great food are\, of course\, all part of the evening’s festivities!
URL:https://www.downtownbrooklyn.com/event/sound-fury-trivia-nights/2031-02-12/
CATEGORIES:Games,Eat + Drink
ATTACH;FMTTYPE=image/jpeg:https://www.downtownbrooklyn.com/wp-content/uploads/2023/07/circa-brewing-people-drinking.jpg
END:VEVENT
BEGIN:VEVENT
DTSTART;TZID=America/New_York:20310219T190000
DTEND;TZID=America/New_York:20310219T213000
DTSTAMP:20260421T192150
CREATED:20260421T195933Z
LAST-MODIFIED:20260421T195933Z
UID:10012490-1929294000-1929303000@www.downtownbrooklyn.com
SUMMARY:Sound + Fury Trivia Nights
DESCRIPTION:Wednesday night is Trivia Night at Sound + Fury\, where you can pit your trivia skills against others and compete for prizes. Craft beer and great food are\, of course\, all part of the evening’s festivities!
URL:https://www.downtownbrooklyn.com/event/sound-fury-trivia-nights/2031-02-19/
CATEGORIES:Games,Eat + Drink
ATTACH;FMTTYPE=image/jpeg:https://www.downtownbrooklyn.com/wp-content/uploads/2023/07/circa-brewing-people-drinking.jpg
END:VEVENT
BEGIN:VEVENT
DTSTART;TZID=America/New_York:20310226T190000
DTEND;TZID=America/New_York:20310226T213000
DTSTAMP:20260421T192150
CREATED:20260421T195933Z
LAST-MODIFIED:20260421T195933Z
UID:10012491-1929898800-1929907800@www.downtownbrooklyn.com
SUMMARY:Sound + Fury Trivia Nights
DESCRIPTION:Wednesday night is Trivia Night at Sound + Fury\, where you can pit your trivia skills against others and compete for prizes. Craft beer and great food are\, of course\, all part of the evening’s festivities!
URL:https://www.downtownbrooklyn.com/event/sound-fury-trivia-nights/2031-02-26/
CATEGORIES:Games,Eat + Drink
ATTACH;FMTTYPE=image/jpeg:https://www.downtownbrooklyn.com/wp-content/uploads/2023/07/circa-brewing-people-drinking.jpg
END:VEVENT
BEGIN:VEVENT
DTSTART;TZID=America/New_York:20310305T190000
DTEND;TZID=America/New_York:20310305T213000
DTSTAMP:20260421T192150
CREATED:20260421T195933Z
LAST-MODIFIED:20260421T195933Z
UID:10012492-1930503600-1930512600@www.downtownbrooklyn.com
SUMMARY:Sound + Fury Trivia Nights
DESCRIPTION:Wednesday night is Trivia Night at Sound + Fury\, where you can pit your trivia skills against others and compete for prizes. Craft beer and great food are\, of course\, all part of the evening’s festivities!
URL:https://www.downtownbrooklyn.com/event/sound-fury-trivia-nights/2031-03-05/
CATEGORIES:Games,Eat + Drink
ATTACH;FMTTYPE=image/jpeg:https://www.downtownbrooklyn.com/wp-content/uploads/2023/07/circa-brewing-people-drinking.jpg
END:VEVENT
BEGIN:VEVENT
DTSTART;TZID=America/New_York:20310312T190000
DTEND;TZID=America/New_York:20310312T213000
DTSTAMP:20260421T192150
CREATED:20260421T195933Z
LAST-MODIFIED:20260421T195933Z
UID:10012493-1931108400-1931117400@www.downtownbrooklyn.com
SUMMARY:Sound + Fury Trivia Nights
DESCRIPTION:Wednesday night is Trivia Night at Sound + Fury\, where you can pit your trivia skills against others and compete for prizes. Craft beer and great food are\, of course\, all part of the evening’s festivities!
URL:https://www.downtownbrooklyn.com/event/sound-fury-trivia-nights/2031-03-12/
CATEGORIES:Games,Eat + Drink
ATTACH;FMTTYPE=image/jpeg:https://www.downtownbrooklyn.com/wp-content/uploads/2023/07/circa-brewing-people-drinking.jpg
END:VEVENT
BEGIN:VEVENT
DTSTART;TZID=America/New_York:20310319T190000
DTEND;TZID=America/New_York:20310319T213000
DTSTAMP:20260421T192150
CREATED:20260421T195933Z
LAST-MODIFIED:20260421T195933Z
UID:10012494-1931713200-1931722200@www.downtownbrooklyn.com
SUMMARY:Sound + Fury Trivia Nights
DESCRIPTION:Wednesday night is Trivia Night at Sound + Fury\, where you can pit your trivia skills against others and compete for prizes. Craft beer and great food are\, of course\, all part of the evening’s festivities!
URL:https://www.downtownbrooklyn.com/event/sound-fury-trivia-nights/2031-03-19/
CATEGORIES:Games,Eat + Drink
ATTACH;FMTTYPE=image/jpeg:https://www.downtownbrooklyn.com/wp-content/uploads/2023/07/circa-brewing-people-drinking.jpg
END:VEVENT
BEGIN:VEVENT
DTSTART;TZID=America/New_York:20310326T190000
DTEND;TZID=America/New_York:20310326T213000
DTSTAMP:20260421T192150
CREATED:20260421T195933Z
LAST-MODIFIED:20260421T195933Z
UID:10012495-1932318000-1932327000@www.downtownbrooklyn.com
SUMMARY:Sound + Fury Trivia Nights
DESCRIPTION:Wednesday night is Trivia Night at Sound + Fury\, where you can pit your trivia skills against others and compete for prizes. Craft beer and great food are\, of course\, all part of the evening’s festivities!
URL:https://www.downtownbrooklyn.com/event/sound-fury-trivia-nights/2031-03-26/
CATEGORIES:Games,Eat + Drink
ATTACH;FMTTYPE=image/jpeg:https://www.downtownbrooklyn.com/wp-content/uploads/2023/07/circa-brewing-people-drinking.jpg
END:VEVENT
BEGIN:VEVENT
DTSTART;TZID=America/New_York:20310402T190000
DTEND;TZID=America/New_York:20310402T213000
DTSTAMP:20260421T192150
CREATED:20260421T195933Z
LAST-MODIFIED:20260421T195933Z
UID:10012496-1932922800-1932931800@www.downtownbrooklyn.com
SUMMARY:Sound + Fury Trivia Nights
DESCRIPTION:Wednesday night is Trivia Night at Sound + Fury\, where you can pit your trivia skills against others and compete for prizes. Craft beer and great food are\, of course\, all part of the evening’s festivities!
URL:https://www.downtownbrooklyn.com/event/sound-fury-trivia-nights/2031-04-02/
CATEGORIES:Games,Eat + Drink
ATTACH;FMTTYPE=image/jpeg:https://www.downtownbrooklyn.com/wp-content/uploads/2023/07/circa-brewing-people-drinking.jpg
END:VEVENT
BEGIN:VEVENT
DTSTART;TZID=America/New_York:20310409T190000
DTEND;TZID=America/New_York:20310409T213000
DTSTAMP:20260421T192150
CREATED:20260421T195933Z
LAST-MODIFIED:20260421T195933Z
UID:10012497-1933527600-1933536600@www.downtownbrooklyn.com
SUMMARY:Sound + Fury Trivia Nights
DESCRIPTION:Wednesday night is Trivia Night at Sound + Fury\, where you can pit your trivia skills against others and compete for prizes. Craft beer and great food are\, of course\, all part of the evening’s festivities!
URL:https://www.downtownbrooklyn.com/event/sound-fury-trivia-nights/2031-04-09/
CATEGORIES:Games,Eat + Drink
ATTACH;FMTTYPE=image/jpeg:https://www.downtownbrooklyn.com/wp-content/uploads/2023/07/circa-brewing-people-drinking.jpg
END:VEVENT
BEGIN:VEVENT
DTSTART;TZID=America/New_York:20310416T190000
DTEND;TZID=America/New_York:20310416T213000
DTSTAMP:20260421T192150
CREATED:20260421T195933Z
LAST-MODIFIED:20260421T195933Z
UID:10012498-1934132400-1934141400@www.downtownbrooklyn.com
SUMMARY:Sound + Fury Trivia Nights
DESCRIPTION:Wednesday night is Trivia Night at Sound + Fury\, where you can pit your trivia skills against others and compete for prizes. Craft beer and great food are\, of course\, all part of the evening’s festivities!
URL:https://www.downtownbrooklyn.com/event/sound-fury-trivia-nights/2031-04-16/
CATEGORIES:Games,Eat + Drink
ATTACH;FMTTYPE=image/jpeg:https://www.downtownbrooklyn.com/wp-content/uploads/2023/07/circa-brewing-people-drinking.jpg
END:VEVENT
END:VCALENDAR