BEGIN:VCALENDAR
VERSION:2.0
PRODID:-//Downtown Brooklyn - ECPv6.15.20//NONSGML v1.0//EN
CALSCALE:GREGORIAN
METHOD:PUBLISH
X-WR-CALNAME:Downtown Brooklyn
X-ORIGINAL-URL:https://www.downtownbrooklyn.com
X-WR-CALDESC:Events for Downtown Brooklyn
REFRESH-INTERVAL;VALUE=DURATION:PT1H
X-Robots-Tag:noindex
X-PUBLISHED-TTL:PT1H
BEGIN:VTIMEZONE
TZID:America/New_York
BEGIN:DAYLIGHT
TZOFFSETFROM:-0500
TZOFFSETTO:-0400
TZNAME:EDT
DTSTART:20220313T070000
END:DAYLIGHT
BEGIN:STANDARD
TZOFFSETFROM:-0400
TZOFFSETTO:-0500
TZNAME:EST
DTSTART:20221106T060000
END:STANDARD
BEGIN:DAYLIGHT
TZOFFSETFROM:-0500
TZOFFSETTO:-0400
TZNAME:EDT
DTSTART:20230312T070000
END:DAYLIGHT
BEGIN:STANDARD
TZOFFSETFROM:-0400
TZOFFSETTO:-0500
TZNAME:EST
DTSTART:20231105T060000
END:STANDARD
BEGIN:DAYLIGHT
TZOFFSETFROM:-0500
TZOFFSETTO:-0400
TZNAME:EDT
DTSTART:20240310T070000
END:DAYLIGHT
BEGIN:STANDARD
TZOFFSETFROM:-0400
TZOFFSETTO:-0500
TZNAME:EST
DTSTART:20241103T060000
END:STANDARD
BEGIN:DAYLIGHT
TZOFFSETFROM:-0500
TZOFFSETTO:-0400
TZNAME:EDT
DTSTART:20250309T070000
END:DAYLIGHT
BEGIN:STANDARD
TZOFFSETFROM:-0400
TZOFFSETTO:-0500
TZNAME:EST
DTSTART:20251102T060000
END:STANDARD
END:VTIMEZONE
BEGIN:VEVENT
DTSTART;TZID=America/New_York:20241012T100000
DTEND;TZID=America/New_York:20241012T140000
DTSTAMP:20260425T193843
CREATED:20241001T201808Z
LAST-MODIFIED:20241105T204737Z
UID:10006506-1728727200-1728741600@www.downtownbrooklyn.com
SUMMARY:Brooklyn Curry Project: Dosa Stand
DESCRIPTION:Brooklyn Curry Project’s famous dosa stand is coming to Nimbus every Saturday! This event is first come first served. Follow @brooklyncurryproject on Instagram to stay up to date!
URL:https://www.downtownbrooklyn.com/event/brooklyn-curry-project-dosa-stand/2024-10-12/
CATEGORIES:Eat + Drink
ATTACH;FMTTYPE=image/png:https://www.downtownbrooklyn.com/wp-content/uploads/2024/10/DosaStand.png
END:VEVENT
BEGIN:VEVENT
DTSTART;TZID=America/New_York:20241005T100000
DTEND;TZID=America/New_York:20241005T140000
DTSTAMP:20260425T193843
CREATED:20241001T201808Z
LAST-MODIFIED:20241105T204737Z
UID:10006505-1728122400-1728136800@www.downtownbrooklyn.com
SUMMARY:Brooklyn Curry Project: Dosa Stand
DESCRIPTION:Brooklyn Curry Project’s famous dosa stand is coming to Nimbus every Saturday! This event is first come first served. Follow @brooklyncurryproject on Instagram to stay up to date!
URL:https://www.downtownbrooklyn.com/event/brooklyn-curry-project-dosa-stand/2024-10-05/
CATEGORIES:Eat + Drink
ATTACH;FMTTYPE=image/png:https://www.downtownbrooklyn.com/wp-content/uploads/2024/10/DosaStand.png
END:VEVENT
BEGIN:VEVENT
DTSTART;TZID=America/New_York:20240924T180000
DTEND;TZID=America/New_York:20240924T200000
DTSTAMP:20260425T193843
CREATED:20240904T205251Z
LAST-MODIFIED:20250701T205831Z
UID:10006452-1727200800-1727208000@www.downtownbrooklyn.com
SUMMARY:Make It in Brooklyn: Climate Tech Pitch Contest
DESCRIPTION:Content is protected.
URL:https://www.downtownbrooklyn.com/event/miib-climatech-24/
CATEGORIES:Make It in Brooklyn
END:VEVENT
BEGIN:VEVENT
DTSTART;TZID=America/New_York:20230503T140000
DTEND;TZID=America/New_York:20230503T190000
DTSTAMP:20260425T193843
CREATED:20250811T184948Z
LAST-MODIFIED:20250811T184948Z
UID:10009257-1683122400-1683140400@www.downtownbrooklyn.com
SUMMARY:Willoughby Walks
DESCRIPTION:Content is protected.
URL:https://www.downtownbrooklyn.com/event/willoughby-walks/
CATEGORIES:Downtown Brooklyn Presents
END:VEVENT
END:VCALENDAR