BEGIN:VCALENDAR
VERSION:2.0
PRODID:-//Downtown Brooklyn - ECPv6.15.20//NONSGML v1.0//EN
CALSCALE:GREGORIAN
METHOD:PUBLISH
X-ORIGINAL-URL:https://www.downtownbrooklyn.com
X-WR-CALDESC:Events for Downtown Brooklyn
REFRESH-INTERVAL;VALUE=DURATION:PT1H
X-Robots-Tag:noindex
X-PUBLISHED-TTL:PT1H
BEGIN:VTIMEZONE
TZID:America/New_York
BEGIN:DAYLIGHT
TZOFFSETFROM:-0500
TZOFFSETTO:-0400
TZNAME:EDT
DTSTART:20270314T070000
END:DAYLIGHT
BEGIN:STANDARD
TZOFFSETFROM:-0400
TZOFFSETTO:-0500
TZNAME:EST
DTSTART:20271107T060000
END:STANDARD
BEGIN:DAYLIGHT
TZOFFSETFROM:-0500
TZOFFSETTO:-0400
TZNAME:EDT
DTSTART:20280312T070000
END:DAYLIGHT
BEGIN:STANDARD
TZOFFSETFROM:-0400
TZOFFSETTO:-0500
TZNAME:EST
DTSTART:20281105T060000
END:STANDARD
BEGIN:DAYLIGHT
TZOFFSETFROM:-0500
TZOFFSETTO:-0400
TZNAME:EDT
DTSTART:20290311T070000
END:DAYLIGHT
BEGIN:STANDARD
TZOFFSETFROM:-0400
TZOFFSETTO:-0500
TZNAME:EST
DTSTART:20291104T060000
END:STANDARD
BEGIN:DAYLIGHT
TZOFFSETFROM:-0500
TZOFFSETTO:-0400
TZNAME:EDT
DTSTART:20300310T070000
END:DAYLIGHT
BEGIN:STANDARD
TZOFFSETFROM:-0400
TZOFFSETTO:-0500
TZNAME:EST
DTSTART:20301103T060000
END:STANDARD
END:VTIMEZONE
BEGIN:VEVENT
DTSTART;TZID=America/New_York:20280809T190000
DTEND;TZID=America/New_York:20280809T213000
DTSTAMP:20260421T182605
CREATED:20260421T195933Z
LAST-MODIFIED:20260421T195933Z
UID:10012358-1849460400-1849469400@www.downtownbrooklyn.com
SUMMARY:Sound + Fury Trivia Nights
DESCRIPTION:Wednesday night is Trivia Night at Sound + Fury\, where you can pit your trivia skills against others and compete for prizes. Craft beer and great food are\, of course\, all part of the evening’s festivities!
URL:https://www.downtownbrooklyn.com/event/sound-fury-trivia-nights/2028-08-09/
CATEGORIES:Games,Eat + Drink
ATTACH;FMTTYPE=image/jpeg:https://www.downtownbrooklyn.com/wp-content/uploads/2023/07/circa-brewing-people-drinking.jpg
END:VEVENT
BEGIN:VEVENT
DTSTART;TZID=America/New_York:20280816T190000
DTEND;TZID=America/New_York:20280816T213000
DTSTAMP:20260421T182605
CREATED:20260421T195933Z
LAST-MODIFIED:20260421T195933Z
UID:10012359-1850065200-1850074200@www.downtownbrooklyn.com
SUMMARY:Sound + Fury Trivia Nights
DESCRIPTION:Wednesday night is Trivia Night at Sound + Fury\, where you can pit your trivia skills against others and compete for prizes. Craft beer and great food are\, of course\, all part of the evening’s festivities!
URL:https://www.downtownbrooklyn.com/event/sound-fury-trivia-nights/2028-08-16/
CATEGORIES:Games,Eat + Drink
ATTACH;FMTTYPE=image/jpeg:https://www.downtownbrooklyn.com/wp-content/uploads/2023/07/circa-brewing-people-drinking.jpg
END:VEVENT
BEGIN:VEVENT
DTSTART;TZID=America/New_York:20280823T190000
DTEND;TZID=America/New_York:20280823T213000
DTSTAMP:20260421T182605
CREATED:20260421T195933Z
LAST-MODIFIED:20260421T195933Z
UID:10012360-1850670000-1850679000@www.downtownbrooklyn.com
SUMMARY:Sound + Fury Trivia Nights
DESCRIPTION:Wednesday night is Trivia Night at Sound + Fury\, where you can pit your trivia skills against others and compete for prizes. Craft beer and great food are\, of course\, all part of the evening’s festivities!
URL:https://www.downtownbrooklyn.com/event/sound-fury-trivia-nights/2028-08-23/
CATEGORIES:Games,Eat + Drink
ATTACH;FMTTYPE=image/jpeg:https://www.downtownbrooklyn.com/wp-content/uploads/2023/07/circa-brewing-people-drinking.jpg
END:VEVENT
BEGIN:VEVENT
DTSTART;TZID=America/New_York:20280830T190000
DTEND;TZID=America/New_York:20280830T213000
DTSTAMP:20260421T182605
CREATED:20260421T195933Z
LAST-MODIFIED:20260421T195933Z
UID:10012361-1851274800-1851283800@www.downtownbrooklyn.com
SUMMARY:Sound + Fury Trivia Nights
DESCRIPTION:Wednesday night is Trivia Night at Sound + Fury\, where you can pit your trivia skills against others and compete for prizes. Craft beer and great food are\, of course\, all part of the evening’s festivities!
URL:https://www.downtownbrooklyn.com/event/sound-fury-trivia-nights/2028-08-30/
CATEGORIES:Games,Eat + Drink
ATTACH;FMTTYPE=image/jpeg:https://www.downtownbrooklyn.com/wp-content/uploads/2023/07/circa-brewing-people-drinking.jpg
END:VEVENT
BEGIN:VEVENT
DTSTART;TZID=America/New_York:20280906T190000
DTEND;TZID=America/New_York:20280906T213000
DTSTAMP:20260421T182605
CREATED:20260421T195933Z
LAST-MODIFIED:20260421T195933Z
UID:10012362-1851879600-1851888600@www.downtownbrooklyn.com
SUMMARY:Sound + Fury Trivia Nights
DESCRIPTION:Wednesday night is Trivia Night at Sound + Fury\, where you can pit your trivia skills against others and compete for prizes. Craft beer and great food are\, of course\, all part of the evening’s festivities!
URL:https://www.downtownbrooklyn.com/event/sound-fury-trivia-nights/2028-09-06/
CATEGORIES:Games,Eat + Drink
ATTACH;FMTTYPE=image/jpeg:https://www.downtownbrooklyn.com/wp-content/uploads/2023/07/circa-brewing-people-drinking.jpg
END:VEVENT
BEGIN:VEVENT
DTSTART;TZID=America/New_York:20280913T190000
DTEND;TZID=America/New_York:20280913T213000
DTSTAMP:20260421T182605
CREATED:20260421T195933Z
LAST-MODIFIED:20260421T195933Z
UID:10012363-1852484400-1852493400@www.downtownbrooklyn.com
SUMMARY:Sound + Fury Trivia Nights
DESCRIPTION:Wednesday night is Trivia Night at Sound + Fury\, where you can pit your trivia skills against others and compete for prizes. Craft beer and great food are\, of course\, all part of the evening’s festivities!
URL:https://www.downtownbrooklyn.com/event/sound-fury-trivia-nights/2028-09-13/
CATEGORIES:Games,Eat + Drink
ATTACH;FMTTYPE=image/jpeg:https://www.downtownbrooklyn.com/wp-content/uploads/2023/07/circa-brewing-people-drinking.jpg
END:VEVENT
BEGIN:VEVENT
DTSTART;TZID=America/New_York:20280920T190000
DTEND;TZID=America/New_York:20280920T213000
DTSTAMP:20260421T182605
CREATED:20260421T195933Z
LAST-MODIFIED:20260421T195933Z
UID:10012364-1853089200-1853098200@www.downtownbrooklyn.com
SUMMARY:Sound + Fury Trivia Nights
DESCRIPTION:Wednesday night is Trivia Night at Sound + Fury\, where you can pit your trivia skills against others and compete for prizes. Craft beer and great food are\, of course\, all part of the evening’s festivities!
URL:https://www.downtownbrooklyn.com/event/sound-fury-trivia-nights/2028-09-20/
CATEGORIES:Games,Eat + Drink
ATTACH;FMTTYPE=image/jpeg:https://www.downtownbrooklyn.com/wp-content/uploads/2023/07/circa-brewing-people-drinking.jpg
END:VEVENT
BEGIN:VEVENT
DTSTART;TZID=America/New_York:20280927T190000
DTEND;TZID=America/New_York:20280927T213000
DTSTAMP:20260421T182605
CREATED:20260421T195933Z
LAST-MODIFIED:20260421T195933Z
UID:10012365-1853694000-1853703000@www.downtownbrooklyn.com
SUMMARY:Sound + Fury Trivia Nights
DESCRIPTION:Wednesday night is Trivia Night at Sound + Fury\, where you can pit your trivia skills against others and compete for prizes. Craft beer and great food are\, of course\, all part of the evening’s festivities!
URL:https://www.downtownbrooklyn.com/event/sound-fury-trivia-nights/2028-09-27/
CATEGORIES:Games,Eat + Drink
ATTACH;FMTTYPE=image/jpeg:https://www.downtownbrooklyn.com/wp-content/uploads/2023/07/circa-brewing-people-drinking.jpg
END:VEVENT
BEGIN:VEVENT
DTSTART;TZID=America/New_York:20281004T190000
DTEND;TZID=America/New_York:20281004T213000
DTSTAMP:20260421T182605
CREATED:20260421T195933Z
LAST-MODIFIED:20260421T195933Z
UID:10012366-1854298800-1854307800@www.downtownbrooklyn.com
SUMMARY:Sound + Fury Trivia Nights
DESCRIPTION:Wednesday night is Trivia Night at Sound + Fury\, where you can pit your trivia skills against others and compete for prizes. Craft beer and great food are\, of course\, all part of the evening’s festivities!
URL:https://www.downtownbrooklyn.com/event/sound-fury-trivia-nights/2028-10-04/
CATEGORIES:Games,Eat + Drink
ATTACH;FMTTYPE=image/jpeg:https://www.downtownbrooklyn.com/wp-content/uploads/2023/07/circa-brewing-people-drinking.jpg
END:VEVENT
BEGIN:VEVENT
DTSTART;TZID=America/New_York:20281011T190000
DTEND;TZID=America/New_York:20281011T213000
DTSTAMP:20260421T182605
CREATED:20260421T195933Z
LAST-MODIFIED:20260421T195933Z
UID:10012367-1854903600-1854912600@www.downtownbrooklyn.com
SUMMARY:Sound + Fury Trivia Nights
DESCRIPTION:Wednesday night is Trivia Night at Sound + Fury\, where you can pit your trivia skills against others and compete for prizes. Craft beer and great food are\, of course\, all part of the evening’s festivities!
URL:https://www.downtownbrooklyn.com/event/sound-fury-trivia-nights/2028-10-11/
CATEGORIES:Games,Eat + Drink
ATTACH;FMTTYPE=image/jpeg:https://www.downtownbrooklyn.com/wp-content/uploads/2023/07/circa-brewing-people-drinking.jpg
END:VEVENT
BEGIN:VEVENT
DTSTART;TZID=America/New_York:20281018T190000
DTEND;TZID=America/New_York:20281018T213000
DTSTAMP:20260421T182605
CREATED:20260421T195933Z
LAST-MODIFIED:20260421T195933Z
UID:10012368-1855508400-1855517400@www.downtownbrooklyn.com
SUMMARY:Sound + Fury Trivia Nights
DESCRIPTION:Wednesday night is Trivia Night at Sound + Fury\, where you can pit your trivia skills against others and compete for prizes. Craft beer and great food are\, of course\, all part of the evening’s festivities!
URL:https://www.downtownbrooklyn.com/event/sound-fury-trivia-nights/2028-10-18/
CATEGORIES:Games,Eat + Drink
ATTACH;FMTTYPE=image/jpeg:https://www.downtownbrooklyn.com/wp-content/uploads/2023/07/circa-brewing-people-drinking.jpg
END:VEVENT
BEGIN:VEVENT
DTSTART;TZID=America/New_York:20281025T190000
DTEND;TZID=America/New_York:20281025T213000
DTSTAMP:20260421T182605
CREATED:20260421T195933Z
LAST-MODIFIED:20260421T195933Z
UID:10012369-1856113200-1856122200@www.downtownbrooklyn.com
SUMMARY:Sound + Fury Trivia Nights
DESCRIPTION:Wednesday night is Trivia Night at Sound + Fury\, where you can pit your trivia skills against others and compete for prizes. Craft beer and great food are\, of course\, all part of the evening’s festivities!
URL:https://www.downtownbrooklyn.com/event/sound-fury-trivia-nights/2028-10-25/
CATEGORIES:Games,Eat + Drink
ATTACH;FMTTYPE=image/jpeg:https://www.downtownbrooklyn.com/wp-content/uploads/2023/07/circa-brewing-people-drinking.jpg
END:VEVENT
BEGIN:VEVENT
DTSTART;TZID=America/New_York:20281101T190000
DTEND;TZID=America/New_York:20281101T213000
DTSTAMP:20260421T182605
CREATED:20260421T195933Z
LAST-MODIFIED:20260421T195933Z
UID:10012370-1856718000-1856727000@www.downtownbrooklyn.com
SUMMARY:Sound + Fury Trivia Nights
DESCRIPTION:Wednesday night is Trivia Night at Sound + Fury\, where you can pit your trivia skills against others and compete for prizes. Craft beer and great food are\, of course\, all part of the evening’s festivities!
URL:https://www.downtownbrooklyn.com/event/sound-fury-trivia-nights/2028-11-01/
CATEGORIES:Games,Eat + Drink
ATTACH;FMTTYPE=image/jpeg:https://www.downtownbrooklyn.com/wp-content/uploads/2023/07/circa-brewing-people-drinking.jpg
END:VEVENT
BEGIN:VEVENT
DTSTART;TZID=America/New_York:20281108T190000
DTEND;TZID=America/New_York:20281108T213000
DTSTAMP:20260421T182605
CREATED:20260421T195933Z
LAST-MODIFIED:20260421T195933Z
UID:10012371-1857322800-1857331800@www.downtownbrooklyn.com
SUMMARY:Sound + Fury Trivia Nights
DESCRIPTION:Wednesday night is Trivia Night at Sound + Fury\, where you can pit your trivia skills against others and compete for prizes. Craft beer and great food are\, of course\, all part of the evening’s festivities!
URL:https://www.downtownbrooklyn.com/event/sound-fury-trivia-nights/2028-11-08/
CATEGORIES:Games,Eat + Drink
ATTACH;FMTTYPE=image/jpeg:https://www.downtownbrooklyn.com/wp-content/uploads/2023/07/circa-brewing-people-drinking.jpg
END:VEVENT
BEGIN:VEVENT
DTSTART;TZID=America/New_York:20281115T190000
DTEND;TZID=America/New_York:20281115T213000
DTSTAMP:20260421T182605
CREATED:20260421T195933Z
LAST-MODIFIED:20260421T195933Z
UID:10012372-1857927600-1857936600@www.downtownbrooklyn.com
SUMMARY:Sound + Fury Trivia Nights
DESCRIPTION:Wednesday night is Trivia Night at Sound + Fury\, where you can pit your trivia skills against others and compete for prizes. Craft beer and great food are\, of course\, all part of the evening’s festivities!
URL:https://www.downtownbrooklyn.com/event/sound-fury-trivia-nights/2028-11-15/
CATEGORIES:Games,Eat + Drink
ATTACH;FMTTYPE=image/jpeg:https://www.downtownbrooklyn.com/wp-content/uploads/2023/07/circa-brewing-people-drinking.jpg
END:VEVENT
BEGIN:VEVENT
DTSTART;TZID=America/New_York:20281122T190000
DTEND;TZID=America/New_York:20281122T213000
DTSTAMP:20260421T182605
CREATED:20260421T195933Z
LAST-MODIFIED:20260421T195933Z
UID:10012373-1858532400-1858541400@www.downtownbrooklyn.com
SUMMARY:Sound + Fury Trivia Nights
DESCRIPTION:Wednesday night is Trivia Night at Sound + Fury\, where you can pit your trivia skills against others and compete for prizes. Craft beer and great food are\, of course\, all part of the evening’s festivities!
URL:https://www.downtownbrooklyn.com/event/sound-fury-trivia-nights/2028-11-22/
CATEGORIES:Games,Eat + Drink
ATTACH;FMTTYPE=image/jpeg:https://www.downtownbrooklyn.com/wp-content/uploads/2023/07/circa-brewing-people-drinking.jpg
END:VEVENT
BEGIN:VEVENT
DTSTART;TZID=America/New_York:20281129T190000
DTEND;TZID=America/New_York:20281129T213000
DTSTAMP:20260421T182605
CREATED:20260421T195933Z
LAST-MODIFIED:20260421T195933Z
UID:10012374-1859137200-1859146200@www.downtownbrooklyn.com
SUMMARY:Sound + Fury Trivia Nights
DESCRIPTION:Wednesday night is Trivia Night at Sound + Fury\, where you can pit your trivia skills against others and compete for prizes. Craft beer and great food are\, of course\, all part of the evening’s festivities!
URL:https://www.downtownbrooklyn.com/event/sound-fury-trivia-nights/2028-11-29/
CATEGORIES:Games,Eat + Drink
ATTACH;FMTTYPE=image/jpeg:https://www.downtownbrooklyn.com/wp-content/uploads/2023/07/circa-brewing-people-drinking.jpg
END:VEVENT
BEGIN:VEVENT
DTSTART;TZID=America/New_York:20281206T190000
DTEND;TZID=America/New_York:20281206T213000
DTSTAMP:20260421T182605
CREATED:20260421T195933Z
LAST-MODIFIED:20260421T195933Z
UID:10012375-1859742000-1859751000@www.downtownbrooklyn.com
SUMMARY:Sound + Fury Trivia Nights
DESCRIPTION:Wednesday night is Trivia Night at Sound + Fury\, where you can pit your trivia skills against others and compete for prizes. Craft beer and great food are\, of course\, all part of the evening’s festivities!
URL:https://www.downtownbrooklyn.com/event/sound-fury-trivia-nights/2028-12-06/
CATEGORIES:Games,Eat + Drink
ATTACH;FMTTYPE=image/jpeg:https://www.downtownbrooklyn.com/wp-content/uploads/2023/07/circa-brewing-people-drinking.jpg
END:VEVENT
BEGIN:VEVENT
DTSTART;TZID=America/New_York:20281213T190000
DTEND;TZID=America/New_York:20281213T213000
DTSTAMP:20260421T182605
CREATED:20260421T195933Z
LAST-MODIFIED:20260421T195933Z
UID:10012376-1860346800-1860355800@www.downtownbrooklyn.com
SUMMARY:Sound + Fury Trivia Nights
DESCRIPTION:Wednesday night is Trivia Night at Sound + Fury\, where you can pit your trivia skills against others and compete for prizes. Craft beer and great food are\, of course\, all part of the evening’s festivities!
URL:https://www.downtownbrooklyn.com/event/sound-fury-trivia-nights/2028-12-13/
CATEGORIES:Games,Eat + Drink
ATTACH;FMTTYPE=image/jpeg:https://www.downtownbrooklyn.com/wp-content/uploads/2023/07/circa-brewing-people-drinking.jpg
END:VEVENT
BEGIN:VEVENT
DTSTART;TZID=America/New_York:20281220T190000
DTEND;TZID=America/New_York:20281220T213000
DTSTAMP:20260421T182605
CREATED:20260421T195933Z
LAST-MODIFIED:20260421T195933Z
UID:10012377-1860951600-1860960600@www.downtownbrooklyn.com
SUMMARY:Sound + Fury Trivia Nights
DESCRIPTION:Wednesday night is Trivia Night at Sound + Fury\, where you can pit your trivia skills against others and compete for prizes. Craft beer and great food are\, of course\, all part of the evening’s festivities!
URL:https://www.downtownbrooklyn.com/event/sound-fury-trivia-nights/2028-12-20/
CATEGORIES:Games,Eat + Drink
ATTACH;FMTTYPE=image/jpeg:https://www.downtownbrooklyn.com/wp-content/uploads/2023/07/circa-brewing-people-drinking.jpg
END:VEVENT
BEGIN:VEVENT
DTSTART;TZID=America/New_York:20281227T190000
DTEND;TZID=America/New_York:20281227T213000
DTSTAMP:20260421T182605
CREATED:20260421T195933Z
LAST-MODIFIED:20260421T195933Z
UID:10012378-1861556400-1861565400@www.downtownbrooklyn.com
SUMMARY:Sound + Fury Trivia Nights
DESCRIPTION:Wednesday night is Trivia Night at Sound + Fury\, where you can pit your trivia skills against others and compete for prizes. Craft beer and great food are\, of course\, all part of the evening’s festivities!
URL:https://www.downtownbrooklyn.com/event/sound-fury-trivia-nights/2028-12-27/
CATEGORIES:Games,Eat + Drink
ATTACH;FMTTYPE=image/jpeg:https://www.downtownbrooklyn.com/wp-content/uploads/2023/07/circa-brewing-people-drinking.jpg
END:VEVENT
BEGIN:VEVENT
DTSTART;TZID=America/New_York:20290103T190000
DTEND;TZID=America/New_York:20290103T213000
DTSTAMP:20260421T182605
CREATED:20260421T195933Z
LAST-MODIFIED:20260421T195933Z
UID:10012379-1862161200-1862170200@www.downtownbrooklyn.com
SUMMARY:Sound + Fury Trivia Nights
DESCRIPTION:Wednesday night is Trivia Night at Sound + Fury\, where you can pit your trivia skills against others and compete for prizes. Craft beer and great food are\, of course\, all part of the evening’s festivities!
URL:https://www.downtownbrooklyn.com/event/sound-fury-trivia-nights/2029-01-03/
CATEGORIES:Games,Eat + Drink
ATTACH;FMTTYPE=image/jpeg:https://www.downtownbrooklyn.com/wp-content/uploads/2023/07/circa-brewing-people-drinking.jpg
END:VEVENT
BEGIN:VEVENT
DTSTART;TZID=America/New_York:20290110T190000
DTEND;TZID=America/New_York:20290110T213000
DTSTAMP:20260421T182605
CREATED:20260421T195933Z
LAST-MODIFIED:20260421T195933Z
UID:10012380-1862766000-1862775000@www.downtownbrooklyn.com
SUMMARY:Sound + Fury Trivia Nights
DESCRIPTION:Wednesday night is Trivia Night at Sound + Fury\, where you can pit your trivia skills against others and compete for prizes. Craft beer and great food are\, of course\, all part of the evening’s festivities!
URL:https://www.downtownbrooklyn.com/event/sound-fury-trivia-nights/2029-01-10/
CATEGORIES:Games,Eat + Drink
ATTACH;FMTTYPE=image/jpeg:https://www.downtownbrooklyn.com/wp-content/uploads/2023/07/circa-brewing-people-drinking.jpg
END:VEVENT
BEGIN:VEVENT
DTSTART;TZID=America/New_York:20290117T190000
DTEND;TZID=America/New_York:20290117T213000
DTSTAMP:20260421T182605
CREATED:20260421T195933Z
LAST-MODIFIED:20260421T195933Z
UID:10012381-1863370800-1863379800@www.downtownbrooklyn.com
SUMMARY:Sound + Fury Trivia Nights
DESCRIPTION:Wednesday night is Trivia Night at Sound + Fury\, where you can pit your trivia skills against others and compete for prizes. Craft beer and great food are\, of course\, all part of the evening’s festivities!
URL:https://www.downtownbrooklyn.com/event/sound-fury-trivia-nights/2029-01-17/
CATEGORIES:Games,Eat + Drink
ATTACH;FMTTYPE=image/jpeg:https://www.downtownbrooklyn.com/wp-content/uploads/2023/07/circa-brewing-people-drinking.jpg
END:VEVENT
BEGIN:VEVENT
DTSTART;TZID=America/New_York:20290124T190000
DTEND;TZID=America/New_York:20290124T213000
DTSTAMP:20260421T182605
CREATED:20260421T195933Z
LAST-MODIFIED:20260421T195933Z
UID:10012382-1863975600-1863984600@www.downtownbrooklyn.com
SUMMARY:Sound + Fury Trivia Nights
DESCRIPTION:Wednesday night is Trivia Night at Sound + Fury\, where you can pit your trivia skills against others and compete for prizes. Craft beer and great food are\, of course\, all part of the evening’s festivities!
URL:https://www.downtownbrooklyn.com/event/sound-fury-trivia-nights/2029-01-24/
CATEGORIES:Games,Eat + Drink
ATTACH;FMTTYPE=image/jpeg:https://www.downtownbrooklyn.com/wp-content/uploads/2023/07/circa-brewing-people-drinking.jpg
END:VEVENT
BEGIN:VEVENT
DTSTART;TZID=America/New_York:20290131T190000
DTEND;TZID=America/New_York:20290131T213000
DTSTAMP:20260421T182605
CREATED:20260421T195933Z
LAST-MODIFIED:20260421T195933Z
UID:10012383-1864580400-1864589400@www.downtownbrooklyn.com
SUMMARY:Sound + Fury Trivia Nights
DESCRIPTION:Wednesday night is Trivia Night at Sound + Fury\, where you can pit your trivia skills against others and compete for prizes. Craft beer and great food are\, of course\, all part of the evening’s festivities!
URL:https://www.downtownbrooklyn.com/event/sound-fury-trivia-nights/2029-01-31/
CATEGORIES:Games,Eat + Drink
ATTACH;FMTTYPE=image/jpeg:https://www.downtownbrooklyn.com/wp-content/uploads/2023/07/circa-brewing-people-drinking.jpg
END:VEVENT
BEGIN:VEVENT
DTSTART;TZID=America/New_York:20290207T190000
DTEND;TZID=America/New_York:20290207T213000
DTSTAMP:20260421T182605
CREATED:20260421T195933Z
LAST-MODIFIED:20260421T195933Z
UID:10012384-1865185200-1865194200@www.downtownbrooklyn.com
SUMMARY:Sound + Fury Trivia Nights
DESCRIPTION:Wednesday night is Trivia Night at Sound + Fury\, where you can pit your trivia skills against others and compete for prizes. Craft beer and great food are\, of course\, all part of the evening’s festivities!
URL:https://www.downtownbrooklyn.com/event/sound-fury-trivia-nights/2029-02-07/
CATEGORIES:Games,Eat + Drink
ATTACH;FMTTYPE=image/jpeg:https://www.downtownbrooklyn.com/wp-content/uploads/2023/07/circa-brewing-people-drinking.jpg
END:VEVENT
BEGIN:VEVENT
DTSTART;TZID=America/New_York:20290214T190000
DTEND;TZID=America/New_York:20290214T213000
DTSTAMP:20260421T182605
CREATED:20260421T195933Z
LAST-MODIFIED:20260421T195933Z
UID:10012385-1865790000-1865799000@www.downtownbrooklyn.com
SUMMARY:Sound + Fury Trivia Nights
DESCRIPTION:Wednesday night is Trivia Night at Sound + Fury\, where you can pit your trivia skills against others and compete for prizes. Craft beer and great food are\, of course\, all part of the evening’s festivities!
URL:https://www.downtownbrooklyn.com/event/sound-fury-trivia-nights/2029-02-14/
CATEGORIES:Games,Eat + Drink
ATTACH;FMTTYPE=image/jpeg:https://www.downtownbrooklyn.com/wp-content/uploads/2023/07/circa-brewing-people-drinking.jpg
END:VEVENT
BEGIN:VEVENT
DTSTART;TZID=America/New_York:20290221T190000
DTEND;TZID=America/New_York:20290221T213000
DTSTAMP:20260421T182605
CREATED:20260421T195933Z
LAST-MODIFIED:20260421T195933Z
UID:10012386-1866394800-1866403800@www.downtownbrooklyn.com
SUMMARY:Sound + Fury Trivia Nights
DESCRIPTION:Wednesday night is Trivia Night at Sound + Fury\, where you can pit your trivia skills against others and compete for prizes. Craft beer and great food are\, of course\, all part of the evening’s festivities!
URL:https://www.downtownbrooklyn.com/event/sound-fury-trivia-nights/2029-02-21/
CATEGORIES:Games,Eat + Drink
ATTACH;FMTTYPE=image/jpeg:https://www.downtownbrooklyn.com/wp-content/uploads/2023/07/circa-brewing-people-drinking.jpg
END:VEVENT
BEGIN:VEVENT
DTSTART;TZID=America/New_York:20290228T190000
DTEND;TZID=America/New_York:20290228T213000
DTSTAMP:20260421T182605
CREATED:20260421T195933Z
LAST-MODIFIED:20260421T195933Z
UID:10012387-1866999600-1867008600@www.downtownbrooklyn.com
SUMMARY:Sound + Fury Trivia Nights
DESCRIPTION:Wednesday night is Trivia Night at Sound + Fury\, where you can pit your trivia skills against others and compete for prizes. Craft beer and great food are\, of course\, all part of the evening’s festivities!
URL:https://www.downtownbrooklyn.com/event/sound-fury-trivia-nights/2029-02-28/
CATEGORIES:Games,Eat + Drink
ATTACH;FMTTYPE=image/jpeg:https://www.downtownbrooklyn.com/wp-content/uploads/2023/07/circa-brewing-people-drinking.jpg
END:VEVENT
END:VCALENDAR