BEGIN:VCALENDAR
VERSION:2.0
PRODID:-//Downtown Brooklyn - ECPv6.15.20//NONSGML v1.0//EN
CALSCALE:GREGORIAN
METHOD:PUBLISH
X-ORIGINAL-URL:https://www.downtownbrooklyn.com
X-WR-CALDESC:Events for Downtown Brooklyn
REFRESH-INTERVAL;VALUE=DURATION:PT1H
X-Robots-Tag:noindex
X-PUBLISHED-TTL:PT1H
BEGIN:VTIMEZONE
TZID:America/New_York
BEGIN:DAYLIGHT
TZOFFSETFROM:-0500
TZOFFSETTO:-0400
TZNAME:EDT
DTSTART:20270314T070000
END:DAYLIGHT
BEGIN:STANDARD
TZOFFSETFROM:-0400
TZOFFSETTO:-0500
TZNAME:EST
DTSTART:20271107T060000
END:STANDARD
BEGIN:DAYLIGHT
TZOFFSETFROM:-0500
TZOFFSETTO:-0400
TZNAME:EDT
DTSTART:20280312T070000
END:DAYLIGHT
BEGIN:STANDARD
TZOFFSETFROM:-0400
TZOFFSETTO:-0500
TZNAME:EST
DTSTART:20281105T060000
END:STANDARD
BEGIN:DAYLIGHT
TZOFFSETFROM:-0500
TZOFFSETTO:-0400
TZNAME:EDT
DTSTART:20290311T070000
END:DAYLIGHT
BEGIN:STANDARD
TZOFFSETFROM:-0400
TZOFFSETTO:-0500
TZNAME:EST
DTSTART:20291104T060000
END:STANDARD
END:VTIMEZONE
BEGIN:VEVENT
DTSTART;TZID=America/New_York:20280216T190000
DTEND;TZID=America/New_York:20280216T213000
DTSTAMP:20260421T162021
CREATED:20260421T195933Z
LAST-MODIFIED:20260421T195933Z
UID:10012333-1834340400-1834349400@www.downtownbrooklyn.com
SUMMARY:Sound + Fury Trivia Nights
DESCRIPTION:Wednesday night is Trivia Night at Sound + Fury\, where you can pit your trivia skills against others and compete for prizes. Craft beer and great food are\, of course\, all part of the evening’s festivities!
URL:https://www.downtownbrooklyn.com/event/sound-fury-trivia-nights/2028-02-16/
CATEGORIES:Games,Eat + Drink
ATTACH;FMTTYPE=image/jpeg:https://www.downtownbrooklyn.com/wp-content/uploads/2023/07/circa-brewing-people-drinking.jpg
END:VEVENT
BEGIN:VEVENT
DTSTART;TZID=America/New_York:20280223T190000
DTEND;TZID=America/New_York:20280223T213000
DTSTAMP:20260421T162021
CREATED:20260421T195933Z
LAST-MODIFIED:20260421T195933Z
UID:10012334-1834945200-1834954200@www.downtownbrooklyn.com
SUMMARY:Sound + Fury Trivia Nights
DESCRIPTION:Wednesday night is Trivia Night at Sound + Fury\, where you can pit your trivia skills against others and compete for prizes. Craft beer and great food are\, of course\, all part of the evening’s festivities!
URL:https://www.downtownbrooklyn.com/event/sound-fury-trivia-nights/2028-02-23/
CATEGORIES:Games,Eat + Drink
ATTACH;FMTTYPE=image/jpeg:https://www.downtownbrooklyn.com/wp-content/uploads/2023/07/circa-brewing-people-drinking.jpg
END:VEVENT
BEGIN:VEVENT
DTSTART;TZID=America/New_York:20280301T190000
DTEND;TZID=America/New_York:20280301T213000
DTSTAMP:20260421T162021
CREATED:20260421T195933Z
LAST-MODIFIED:20260421T195933Z
UID:10012335-1835550000-1835559000@www.downtownbrooklyn.com
SUMMARY:Sound + Fury Trivia Nights
DESCRIPTION:Wednesday night is Trivia Night at Sound + Fury\, where you can pit your trivia skills against others and compete for prizes. Craft beer and great food are\, of course\, all part of the evening’s festivities!
URL:https://www.downtownbrooklyn.com/event/sound-fury-trivia-nights/2028-03-01/
CATEGORIES:Games,Eat + Drink
ATTACH;FMTTYPE=image/jpeg:https://www.downtownbrooklyn.com/wp-content/uploads/2023/07/circa-brewing-people-drinking.jpg
END:VEVENT
BEGIN:VEVENT
DTSTART;TZID=America/New_York:20280308T190000
DTEND;TZID=America/New_York:20280308T213000
DTSTAMP:20260421T162021
CREATED:20260421T195933Z
LAST-MODIFIED:20260421T195933Z
UID:10012336-1836154800-1836163800@www.downtownbrooklyn.com
SUMMARY:Sound + Fury Trivia Nights
DESCRIPTION:Wednesday night is Trivia Night at Sound + Fury\, where you can pit your trivia skills against others and compete for prizes. Craft beer and great food are\, of course\, all part of the evening’s festivities!
URL:https://www.downtownbrooklyn.com/event/sound-fury-trivia-nights/2028-03-08/
CATEGORIES:Games,Eat + Drink
ATTACH;FMTTYPE=image/jpeg:https://www.downtownbrooklyn.com/wp-content/uploads/2023/07/circa-brewing-people-drinking.jpg
END:VEVENT
BEGIN:VEVENT
DTSTART;TZID=America/New_York:20280315T190000
DTEND;TZID=America/New_York:20280315T213000
DTSTAMP:20260421T162021
CREATED:20260421T195933Z
LAST-MODIFIED:20260421T195933Z
UID:10012337-1836759600-1836768600@www.downtownbrooklyn.com
SUMMARY:Sound + Fury Trivia Nights
DESCRIPTION:Wednesday night is Trivia Night at Sound + Fury\, where you can pit your trivia skills against others and compete for prizes. Craft beer and great food are\, of course\, all part of the evening’s festivities!
URL:https://www.downtownbrooklyn.com/event/sound-fury-trivia-nights/2028-03-15/
CATEGORIES:Games,Eat + Drink
ATTACH;FMTTYPE=image/jpeg:https://www.downtownbrooklyn.com/wp-content/uploads/2023/07/circa-brewing-people-drinking.jpg
END:VEVENT
BEGIN:VEVENT
DTSTART;TZID=America/New_York:20280322T190000
DTEND;TZID=America/New_York:20280322T213000
DTSTAMP:20260421T162021
CREATED:20260421T195933Z
LAST-MODIFIED:20260421T195933Z
UID:10012338-1837364400-1837373400@www.downtownbrooklyn.com
SUMMARY:Sound + Fury Trivia Nights
DESCRIPTION:Wednesday night is Trivia Night at Sound + Fury\, where you can pit your trivia skills against others and compete for prizes. Craft beer and great food are\, of course\, all part of the evening’s festivities!
URL:https://www.downtownbrooklyn.com/event/sound-fury-trivia-nights/2028-03-22/
CATEGORIES:Games,Eat + Drink
ATTACH;FMTTYPE=image/jpeg:https://www.downtownbrooklyn.com/wp-content/uploads/2023/07/circa-brewing-people-drinking.jpg
END:VEVENT
BEGIN:VEVENT
DTSTART;TZID=America/New_York:20280329T190000
DTEND;TZID=America/New_York:20280329T213000
DTSTAMP:20260421T162021
CREATED:20260421T195933Z
LAST-MODIFIED:20260421T195933Z
UID:10012339-1837969200-1837978200@www.downtownbrooklyn.com
SUMMARY:Sound + Fury Trivia Nights
DESCRIPTION:Wednesday night is Trivia Night at Sound + Fury\, where you can pit your trivia skills against others and compete for prizes. Craft beer and great food are\, of course\, all part of the evening’s festivities!
URL:https://www.downtownbrooklyn.com/event/sound-fury-trivia-nights/2028-03-29/
CATEGORIES:Games,Eat + Drink
ATTACH;FMTTYPE=image/jpeg:https://www.downtownbrooklyn.com/wp-content/uploads/2023/07/circa-brewing-people-drinking.jpg
END:VEVENT
BEGIN:VEVENT
DTSTART;TZID=America/New_York:20280405T190000
DTEND;TZID=America/New_York:20280405T213000
DTSTAMP:20260421T162021
CREATED:20260421T195933Z
LAST-MODIFIED:20260421T195933Z
UID:10012340-1838574000-1838583000@www.downtownbrooklyn.com
SUMMARY:Sound + Fury Trivia Nights
DESCRIPTION:Wednesday night is Trivia Night at Sound + Fury\, where you can pit your trivia skills against others and compete for prizes. Craft beer and great food are\, of course\, all part of the evening’s festivities!
URL:https://www.downtownbrooklyn.com/event/sound-fury-trivia-nights/2028-04-05/
CATEGORIES:Games,Eat + Drink
ATTACH;FMTTYPE=image/jpeg:https://www.downtownbrooklyn.com/wp-content/uploads/2023/07/circa-brewing-people-drinking.jpg
END:VEVENT
BEGIN:VEVENT
DTSTART;TZID=America/New_York:20280412T190000
DTEND;TZID=America/New_York:20280412T213000
DTSTAMP:20260421T162021
CREATED:20260421T195933Z
LAST-MODIFIED:20260421T195933Z
UID:10012341-1839178800-1839187800@www.downtownbrooklyn.com
SUMMARY:Sound + Fury Trivia Nights
DESCRIPTION:Wednesday night is Trivia Night at Sound + Fury\, where you can pit your trivia skills against others and compete for prizes. Craft beer and great food are\, of course\, all part of the evening’s festivities!
URL:https://www.downtownbrooklyn.com/event/sound-fury-trivia-nights/2028-04-12/
CATEGORIES:Games,Eat + Drink
ATTACH;FMTTYPE=image/jpeg:https://www.downtownbrooklyn.com/wp-content/uploads/2023/07/circa-brewing-people-drinking.jpg
END:VEVENT
BEGIN:VEVENT
DTSTART;TZID=America/New_York:20280419T190000
DTEND;TZID=America/New_York:20280419T213000
DTSTAMP:20260421T162021
CREATED:20260421T195933Z
LAST-MODIFIED:20260421T195933Z
UID:10012342-1839783600-1839792600@www.downtownbrooklyn.com
SUMMARY:Sound + Fury Trivia Nights
DESCRIPTION:Wednesday night is Trivia Night at Sound + Fury\, where you can pit your trivia skills against others and compete for prizes. Craft beer and great food are\, of course\, all part of the evening’s festivities!
URL:https://www.downtownbrooklyn.com/event/sound-fury-trivia-nights/2028-04-19/
CATEGORIES:Games,Eat + Drink
ATTACH;FMTTYPE=image/jpeg:https://www.downtownbrooklyn.com/wp-content/uploads/2023/07/circa-brewing-people-drinking.jpg
END:VEVENT
BEGIN:VEVENT
DTSTART;TZID=America/New_York:20280426T190000
DTEND;TZID=America/New_York:20280426T213000
DTSTAMP:20260421T162021
CREATED:20260421T195933Z
LAST-MODIFIED:20260421T195933Z
UID:10012343-1840388400-1840397400@www.downtownbrooklyn.com
SUMMARY:Sound + Fury Trivia Nights
DESCRIPTION:Wednesday night is Trivia Night at Sound + Fury\, where you can pit your trivia skills against others and compete for prizes. Craft beer and great food are\, of course\, all part of the evening’s festivities!
URL:https://www.downtownbrooklyn.com/event/sound-fury-trivia-nights/2028-04-26/
CATEGORIES:Games,Eat + Drink
ATTACH;FMTTYPE=image/jpeg:https://www.downtownbrooklyn.com/wp-content/uploads/2023/07/circa-brewing-people-drinking.jpg
END:VEVENT
BEGIN:VEVENT
DTSTART;TZID=America/New_York:20280503T190000
DTEND;TZID=America/New_York:20280503T213000
DTSTAMP:20260421T162021
CREATED:20260421T195933Z
LAST-MODIFIED:20260421T195933Z
UID:10012344-1840993200-1841002200@www.downtownbrooklyn.com
SUMMARY:Sound + Fury Trivia Nights
DESCRIPTION:Wednesday night is Trivia Night at Sound + Fury\, where you can pit your trivia skills against others and compete for prizes. Craft beer and great food are\, of course\, all part of the evening’s festivities!
URL:https://www.downtownbrooklyn.com/event/sound-fury-trivia-nights/2028-05-03/
CATEGORIES:Games,Eat + Drink
ATTACH;FMTTYPE=image/jpeg:https://www.downtownbrooklyn.com/wp-content/uploads/2023/07/circa-brewing-people-drinking.jpg
END:VEVENT
BEGIN:VEVENT
DTSTART;TZID=America/New_York:20280510T190000
DTEND;TZID=America/New_York:20280510T213000
DTSTAMP:20260421T162021
CREATED:20260421T195933Z
LAST-MODIFIED:20260421T195933Z
UID:10012345-1841598000-1841607000@www.downtownbrooklyn.com
SUMMARY:Sound + Fury Trivia Nights
DESCRIPTION:Wednesday night is Trivia Night at Sound + Fury\, where you can pit your trivia skills against others and compete for prizes. Craft beer and great food are\, of course\, all part of the evening’s festivities!
URL:https://www.downtownbrooklyn.com/event/sound-fury-trivia-nights/2028-05-10/
CATEGORIES:Games,Eat + Drink
ATTACH;FMTTYPE=image/jpeg:https://www.downtownbrooklyn.com/wp-content/uploads/2023/07/circa-brewing-people-drinking.jpg
END:VEVENT
BEGIN:VEVENT
DTSTART;TZID=America/New_York:20280517T190000
DTEND;TZID=America/New_York:20280517T213000
DTSTAMP:20260421T162021
CREATED:20260421T195933Z
LAST-MODIFIED:20260421T195933Z
UID:10012346-1842202800-1842211800@www.downtownbrooklyn.com
SUMMARY:Sound + Fury Trivia Nights
DESCRIPTION:Wednesday night is Trivia Night at Sound + Fury\, where you can pit your trivia skills against others and compete for prizes. Craft beer and great food are\, of course\, all part of the evening’s festivities!
URL:https://www.downtownbrooklyn.com/event/sound-fury-trivia-nights/2028-05-17/
CATEGORIES:Games,Eat + Drink
ATTACH;FMTTYPE=image/jpeg:https://www.downtownbrooklyn.com/wp-content/uploads/2023/07/circa-brewing-people-drinking.jpg
END:VEVENT
BEGIN:VEVENT
DTSTART;TZID=America/New_York:20280524T190000
DTEND;TZID=America/New_York:20280524T213000
DTSTAMP:20260421T162021
CREATED:20260421T195933Z
LAST-MODIFIED:20260421T195933Z
UID:10012347-1842807600-1842816600@www.downtownbrooklyn.com
SUMMARY:Sound + Fury Trivia Nights
DESCRIPTION:Wednesday night is Trivia Night at Sound + Fury\, where you can pit your trivia skills against others and compete for prizes. Craft beer and great food are\, of course\, all part of the evening’s festivities!
URL:https://www.downtownbrooklyn.com/event/sound-fury-trivia-nights/2028-05-24/
CATEGORIES:Games,Eat + Drink
ATTACH;FMTTYPE=image/jpeg:https://www.downtownbrooklyn.com/wp-content/uploads/2023/07/circa-brewing-people-drinking.jpg
END:VEVENT
BEGIN:VEVENT
DTSTART;TZID=America/New_York:20280531T190000
DTEND;TZID=America/New_York:20280531T213000
DTSTAMP:20260421T162021
CREATED:20260421T195933Z
LAST-MODIFIED:20260421T195933Z
UID:10012348-1843412400-1843421400@www.downtownbrooklyn.com
SUMMARY:Sound + Fury Trivia Nights
DESCRIPTION:Wednesday night is Trivia Night at Sound + Fury\, where you can pit your trivia skills against others and compete for prizes. Craft beer and great food are\, of course\, all part of the evening’s festivities!
URL:https://www.downtownbrooklyn.com/event/sound-fury-trivia-nights/2028-05-31/
CATEGORIES:Games,Eat + Drink
ATTACH;FMTTYPE=image/jpeg:https://www.downtownbrooklyn.com/wp-content/uploads/2023/07/circa-brewing-people-drinking.jpg
END:VEVENT
BEGIN:VEVENT
DTSTART;TZID=America/New_York:20280607T190000
DTEND;TZID=America/New_York:20280607T213000
DTSTAMP:20260421T162021
CREATED:20260421T195933Z
LAST-MODIFIED:20260421T195933Z
UID:10012349-1844017200-1844026200@www.downtownbrooklyn.com
SUMMARY:Sound + Fury Trivia Nights
DESCRIPTION:Wednesday night is Trivia Night at Sound + Fury\, where you can pit your trivia skills against others and compete for prizes. Craft beer and great food are\, of course\, all part of the evening’s festivities!
URL:https://www.downtownbrooklyn.com/event/sound-fury-trivia-nights/2028-06-07/
CATEGORIES:Games,Eat + Drink
ATTACH;FMTTYPE=image/jpeg:https://www.downtownbrooklyn.com/wp-content/uploads/2023/07/circa-brewing-people-drinking.jpg
END:VEVENT
BEGIN:VEVENT
DTSTART;TZID=America/New_York:20280614T190000
DTEND;TZID=America/New_York:20280614T213000
DTSTAMP:20260421T162021
CREATED:20260421T195933Z
LAST-MODIFIED:20260421T195933Z
UID:10012350-1844622000-1844631000@www.downtownbrooklyn.com
SUMMARY:Sound + Fury Trivia Nights
DESCRIPTION:Wednesday night is Trivia Night at Sound + Fury\, where you can pit your trivia skills against others and compete for prizes. Craft beer and great food are\, of course\, all part of the evening’s festivities!
URL:https://www.downtownbrooklyn.com/event/sound-fury-trivia-nights/2028-06-14/
CATEGORIES:Games,Eat + Drink
ATTACH;FMTTYPE=image/jpeg:https://www.downtownbrooklyn.com/wp-content/uploads/2023/07/circa-brewing-people-drinking.jpg
END:VEVENT
BEGIN:VEVENT
DTSTART;TZID=America/New_York:20280621T190000
DTEND;TZID=America/New_York:20280621T213000
DTSTAMP:20260421T162021
CREATED:20260421T195933Z
LAST-MODIFIED:20260421T195933Z
UID:10012351-1845226800-1845235800@www.downtownbrooklyn.com
SUMMARY:Sound + Fury Trivia Nights
DESCRIPTION:Wednesday night is Trivia Night at Sound + Fury\, where you can pit your trivia skills against others and compete for prizes. Craft beer and great food are\, of course\, all part of the evening’s festivities!
URL:https://www.downtownbrooklyn.com/event/sound-fury-trivia-nights/2028-06-21/
CATEGORIES:Games,Eat + Drink
ATTACH;FMTTYPE=image/jpeg:https://www.downtownbrooklyn.com/wp-content/uploads/2023/07/circa-brewing-people-drinking.jpg
END:VEVENT
BEGIN:VEVENT
DTSTART;TZID=America/New_York:20280628T190000
DTEND;TZID=America/New_York:20280628T213000
DTSTAMP:20260421T162021
CREATED:20260421T195933Z
LAST-MODIFIED:20260421T195933Z
UID:10012352-1845831600-1845840600@www.downtownbrooklyn.com
SUMMARY:Sound + Fury Trivia Nights
DESCRIPTION:Wednesday night is Trivia Night at Sound + Fury\, where you can pit your trivia skills against others and compete for prizes. Craft beer and great food are\, of course\, all part of the evening’s festivities!
URL:https://www.downtownbrooklyn.com/event/sound-fury-trivia-nights/2028-06-28/
CATEGORIES:Games,Eat + Drink
ATTACH;FMTTYPE=image/jpeg:https://www.downtownbrooklyn.com/wp-content/uploads/2023/07/circa-brewing-people-drinking.jpg
END:VEVENT
BEGIN:VEVENT
DTSTART;TZID=America/New_York:20280705T190000
DTEND;TZID=America/New_York:20280705T213000
DTSTAMP:20260421T162021
CREATED:20260421T195933Z
LAST-MODIFIED:20260421T195933Z
UID:10012353-1846436400-1846445400@www.downtownbrooklyn.com
SUMMARY:Sound + Fury Trivia Nights
DESCRIPTION:Wednesday night is Trivia Night at Sound + Fury\, where you can pit your trivia skills against others and compete for prizes. Craft beer and great food are\, of course\, all part of the evening’s festivities!
URL:https://www.downtownbrooklyn.com/event/sound-fury-trivia-nights/2028-07-05/
CATEGORIES:Games,Eat + Drink
ATTACH;FMTTYPE=image/jpeg:https://www.downtownbrooklyn.com/wp-content/uploads/2023/07/circa-brewing-people-drinking.jpg
END:VEVENT
BEGIN:VEVENT
DTSTART;TZID=America/New_York:20280712T190000
DTEND;TZID=America/New_York:20280712T213000
DTSTAMP:20260421T162021
CREATED:20260421T195933Z
LAST-MODIFIED:20260421T195933Z
UID:10012354-1847041200-1847050200@www.downtownbrooklyn.com
SUMMARY:Sound + Fury Trivia Nights
DESCRIPTION:Wednesday night is Trivia Night at Sound + Fury\, where you can pit your trivia skills against others and compete for prizes. Craft beer and great food are\, of course\, all part of the evening’s festivities!
URL:https://www.downtownbrooklyn.com/event/sound-fury-trivia-nights/2028-07-12/
CATEGORIES:Games,Eat + Drink
ATTACH;FMTTYPE=image/jpeg:https://www.downtownbrooklyn.com/wp-content/uploads/2023/07/circa-brewing-people-drinking.jpg
END:VEVENT
BEGIN:VEVENT
DTSTART;TZID=America/New_York:20280719T190000
DTEND;TZID=America/New_York:20280719T213000
DTSTAMP:20260421T162021
CREATED:20260421T195933Z
LAST-MODIFIED:20260421T195933Z
UID:10012355-1847646000-1847655000@www.downtownbrooklyn.com
SUMMARY:Sound + Fury Trivia Nights
DESCRIPTION:Wednesday night is Trivia Night at Sound + Fury\, where you can pit your trivia skills against others and compete for prizes. Craft beer and great food are\, of course\, all part of the evening’s festivities!
URL:https://www.downtownbrooklyn.com/event/sound-fury-trivia-nights/2028-07-19/
CATEGORIES:Games,Eat + Drink
ATTACH;FMTTYPE=image/jpeg:https://www.downtownbrooklyn.com/wp-content/uploads/2023/07/circa-brewing-people-drinking.jpg
END:VEVENT
BEGIN:VEVENT
DTSTART;TZID=America/New_York:20280726T190000
DTEND;TZID=America/New_York:20280726T213000
DTSTAMP:20260421T162021
CREATED:20260421T195933Z
LAST-MODIFIED:20260421T195933Z
UID:10012356-1848250800-1848259800@www.downtownbrooklyn.com
SUMMARY:Sound + Fury Trivia Nights
DESCRIPTION:Wednesday night is Trivia Night at Sound + Fury\, where you can pit your trivia skills against others and compete for prizes. Craft beer and great food are\, of course\, all part of the evening’s festivities!
URL:https://www.downtownbrooklyn.com/event/sound-fury-trivia-nights/2028-07-26/
CATEGORIES:Games,Eat + Drink
ATTACH;FMTTYPE=image/jpeg:https://www.downtownbrooklyn.com/wp-content/uploads/2023/07/circa-brewing-people-drinking.jpg
END:VEVENT
BEGIN:VEVENT
DTSTART;TZID=America/New_York:20280802T190000
DTEND;TZID=America/New_York:20280802T213000
DTSTAMP:20260421T162021
CREATED:20260421T195933Z
LAST-MODIFIED:20260421T195933Z
UID:10012357-1848855600-1848864600@www.downtownbrooklyn.com
SUMMARY:Sound + Fury Trivia Nights
DESCRIPTION:Wednesday night is Trivia Night at Sound + Fury\, where you can pit your trivia skills against others and compete for prizes. Craft beer and great food are\, of course\, all part of the evening’s festivities!
URL:https://www.downtownbrooklyn.com/event/sound-fury-trivia-nights/2028-08-02/
CATEGORIES:Games,Eat + Drink
ATTACH;FMTTYPE=image/jpeg:https://www.downtownbrooklyn.com/wp-content/uploads/2023/07/circa-brewing-people-drinking.jpg
END:VEVENT
BEGIN:VEVENT
DTSTART;TZID=America/New_York:20280809T190000
DTEND;TZID=America/New_York:20280809T213000
DTSTAMP:20260421T162021
CREATED:20260421T195933Z
LAST-MODIFIED:20260421T195933Z
UID:10012358-1849460400-1849469400@www.downtownbrooklyn.com
SUMMARY:Sound + Fury Trivia Nights
DESCRIPTION:Wednesday night is Trivia Night at Sound + Fury\, where you can pit your trivia skills against others and compete for prizes. Craft beer and great food are\, of course\, all part of the evening’s festivities!
URL:https://www.downtownbrooklyn.com/event/sound-fury-trivia-nights/2028-08-09/
CATEGORIES:Games,Eat + Drink
ATTACH;FMTTYPE=image/jpeg:https://www.downtownbrooklyn.com/wp-content/uploads/2023/07/circa-brewing-people-drinking.jpg
END:VEVENT
BEGIN:VEVENT
DTSTART;TZID=America/New_York:20280816T190000
DTEND;TZID=America/New_York:20280816T213000
DTSTAMP:20260421T162021
CREATED:20260421T195933Z
LAST-MODIFIED:20260421T195933Z
UID:10012359-1850065200-1850074200@www.downtownbrooklyn.com
SUMMARY:Sound + Fury Trivia Nights
DESCRIPTION:Wednesday night is Trivia Night at Sound + Fury\, where you can pit your trivia skills against others and compete for prizes. Craft beer and great food are\, of course\, all part of the evening’s festivities!
URL:https://www.downtownbrooklyn.com/event/sound-fury-trivia-nights/2028-08-16/
CATEGORIES:Games,Eat + Drink
ATTACH;FMTTYPE=image/jpeg:https://www.downtownbrooklyn.com/wp-content/uploads/2023/07/circa-brewing-people-drinking.jpg
END:VEVENT
BEGIN:VEVENT
DTSTART;TZID=America/New_York:20280823T190000
DTEND;TZID=America/New_York:20280823T213000
DTSTAMP:20260421T162021
CREATED:20260421T195933Z
LAST-MODIFIED:20260421T195933Z
UID:10012360-1850670000-1850679000@www.downtownbrooklyn.com
SUMMARY:Sound + Fury Trivia Nights
DESCRIPTION:Wednesday night is Trivia Night at Sound + Fury\, where you can pit your trivia skills against others and compete for prizes. Craft beer and great food are\, of course\, all part of the evening’s festivities!
URL:https://www.downtownbrooklyn.com/event/sound-fury-trivia-nights/2028-08-23/
CATEGORIES:Games,Eat + Drink
ATTACH;FMTTYPE=image/jpeg:https://www.downtownbrooklyn.com/wp-content/uploads/2023/07/circa-brewing-people-drinking.jpg
END:VEVENT
BEGIN:VEVENT
DTSTART;TZID=America/New_York:20280830T190000
DTEND;TZID=America/New_York:20280830T213000
DTSTAMP:20260421T162021
CREATED:20260421T195933Z
LAST-MODIFIED:20260421T195933Z
UID:10012361-1851274800-1851283800@www.downtownbrooklyn.com
SUMMARY:Sound + Fury Trivia Nights
DESCRIPTION:Wednesday night is Trivia Night at Sound + Fury\, where you can pit your trivia skills against others and compete for prizes. Craft beer and great food are\, of course\, all part of the evening’s festivities!
URL:https://www.downtownbrooklyn.com/event/sound-fury-trivia-nights/2028-08-30/
CATEGORIES:Games,Eat + Drink
ATTACH;FMTTYPE=image/jpeg:https://www.downtownbrooklyn.com/wp-content/uploads/2023/07/circa-brewing-people-drinking.jpg
END:VEVENT
BEGIN:VEVENT
DTSTART;TZID=America/New_York:20280906T190000
DTEND;TZID=America/New_York:20280906T213000
DTSTAMP:20260421T162021
CREATED:20260421T195933Z
LAST-MODIFIED:20260421T195933Z
UID:10012362-1851879600-1851888600@www.downtownbrooklyn.com
SUMMARY:Sound + Fury Trivia Nights
DESCRIPTION:Wednesday night is Trivia Night at Sound + Fury\, where you can pit your trivia skills against others and compete for prizes. Craft beer and great food are\, of course\, all part of the evening’s festivities!
URL:https://www.downtownbrooklyn.com/event/sound-fury-trivia-nights/2028-09-06/
CATEGORIES:Games,Eat + Drink
ATTACH;FMTTYPE=image/jpeg:https://www.downtownbrooklyn.com/wp-content/uploads/2023/07/circa-brewing-people-drinking.jpg
END:VEVENT
END:VCALENDAR