BEGIN:VCALENDAR
VERSION:2.0
PRODID:-//Downtown Brooklyn - ECPv6.15.20//NONSGML v1.0//EN
CALSCALE:GREGORIAN
METHOD:PUBLISH
X-WR-CALNAME:Downtown Brooklyn
X-ORIGINAL-URL:https://www.downtownbrooklyn.com
X-WR-CALDESC:Events for Downtown Brooklyn
REFRESH-INTERVAL;VALUE=DURATION:PT1H
X-Robots-Tag:noindex
X-PUBLISHED-TTL:PT1H
BEGIN:VTIMEZONE
TZID:America/New_York
BEGIN:DAYLIGHT
TZOFFSETFROM:-0500
TZOFFSETTO:-0400
TZNAME:EDT
DTSTART:20260308T070000
END:DAYLIGHT
BEGIN:STANDARD
TZOFFSETFROM:-0400
TZOFFSETTO:-0500
TZNAME:EST
DTSTART:20261101T060000
END:STANDARD
BEGIN:DAYLIGHT
TZOFFSETFROM:-0500
TZOFFSETTO:-0400
TZNAME:EDT
DTSTART:20270314T070000
END:DAYLIGHT
BEGIN:STANDARD
TZOFFSETFROM:-0400
TZOFFSETTO:-0500
TZNAME:EST
DTSTART:20271107T060000
END:STANDARD
BEGIN:DAYLIGHT
TZOFFSETFROM:-0500
TZOFFSETTO:-0400
TZNAME:EDT
DTSTART:20280312T070000
END:DAYLIGHT
BEGIN:STANDARD
TZOFFSETFROM:-0400
TZOFFSETTO:-0500
TZNAME:EST
DTSTART:20281105T060000
END:STANDARD
END:VTIMEZONE
BEGIN:VEVENT
DTSTART;TZID=America/New_York:20270331T190000
DTEND;TZID=America/New_York:20270331T213000
DTSTAMP:20260421T193308
CREATED:20260421T195933Z
LAST-MODIFIED:20260421T195933Z
UID:10012287-1806519600-1806528600@www.downtownbrooklyn.com
SUMMARY:Sound + Fury Trivia Nights
DESCRIPTION:Wednesday night is Trivia Night at Sound + Fury\, where you can pit your trivia skills against others and compete for prizes. Craft beer and great food are\, of course\, all part of the evening’s festivities!
URL:https://www.downtownbrooklyn.com/event/sound-fury-trivia-nights/2027-03-31/
CATEGORIES:Games,Eat + Drink
ATTACH;FMTTYPE=image/jpeg:https://www.downtownbrooklyn.com/wp-content/uploads/2023/07/circa-brewing-people-drinking.jpg
END:VEVENT
BEGIN:VEVENT
DTSTART;TZID=America/New_York:20270407T190000
DTEND;TZID=America/New_York:20270407T213000
DTSTAMP:20260421T193308
CREATED:20260421T195933Z
LAST-MODIFIED:20260421T195933Z
UID:10012288-1807124400-1807133400@www.downtownbrooklyn.com
SUMMARY:Sound + Fury Trivia Nights
DESCRIPTION:Wednesday night is Trivia Night at Sound + Fury\, where you can pit your trivia skills against others and compete for prizes. Craft beer and great food are\, of course\, all part of the evening’s festivities!
URL:https://www.downtownbrooklyn.com/event/sound-fury-trivia-nights/2027-04-07/
CATEGORIES:Games,Eat + Drink
ATTACH;FMTTYPE=image/jpeg:https://www.downtownbrooklyn.com/wp-content/uploads/2023/07/circa-brewing-people-drinking.jpg
END:VEVENT
BEGIN:VEVENT
DTSTART;TZID=America/New_York:20270414T190000
DTEND;TZID=America/New_York:20270414T213000
DTSTAMP:20260421T193308
CREATED:20260421T195933Z
LAST-MODIFIED:20260421T195933Z
UID:10012289-1807729200-1807738200@www.downtownbrooklyn.com
SUMMARY:Sound + Fury Trivia Nights
DESCRIPTION:Wednesday night is Trivia Night at Sound + Fury\, where you can pit your trivia skills against others and compete for prizes. Craft beer and great food are\, of course\, all part of the evening’s festivities!
URL:https://www.downtownbrooklyn.com/event/sound-fury-trivia-nights/2027-04-14/
CATEGORIES:Games,Eat + Drink
ATTACH;FMTTYPE=image/jpeg:https://www.downtownbrooklyn.com/wp-content/uploads/2023/07/circa-brewing-people-drinking.jpg
END:VEVENT
BEGIN:VEVENT
DTSTART;TZID=America/New_York:20270421T190000
DTEND;TZID=America/New_York:20270421T213000
DTSTAMP:20260421T193308
CREATED:20260421T195933Z
LAST-MODIFIED:20260421T195933Z
UID:10012290-1808334000-1808343000@www.downtownbrooklyn.com
SUMMARY:Sound + Fury Trivia Nights
DESCRIPTION:Wednesday night is Trivia Night at Sound + Fury\, where you can pit your trivia skills against others and compete for prizes. Craft beer and great food are\, of course\, all part of the evening’s festivities!
URL:https://www.downtownbrooklyn.com/event/sound-fury-trivia-nights/2027-04-21/
CATEGORIES:Games,Eat + Drink
ATTACH;FMTTYPE=image/jpeg:https://www.downtownbrooklyn.com/wp-content/uploads/2023/07/circa-brewing-people-drinking.jpg
END:VEVENT
BEGIN:VEVENT
DTSTART;TZID=America/New_York:20270428T190000
DTEND;TZID=America/New_York:20270428T213000
DTSTAMP:20260421T193308
CREATED:20260421T195933Z
LAST-MODIFIED:20260421T195933Z
UID:10012291-1808938800-1808947800@www.downtownbrooklyn.com
SUMMARY:Sound + Fury Trivia Nights
DESCRIPTION:Wednesday night is Trivia Night at Sound + Fury\, where you can pit your trivia skills against others and compete for prizes. Craft beer and great food are\, of course\, all part of the evening’s festivities!
URL:https://www.downtownbrooklyn.com/event/sound-fury-trivia-nights/2027-04-28/
CATEGORIES:Games,Eat + Drink
ATTACH;FMTTYPE=image/jpeg:https://www.downtownbrooklyn.com/wp-content/uploads/2023/07/circa-brewing-people-drinking.jpg
END:VEVENT
BEGIN:VEVENT
DTSTART;TZID=America/New_York:20270505T190000
DTEND;TZID=America/New_York:20270505T213000
DTSTAMP:20260421T193308
CREATED:20260421T195933Z
LAST-MODIFIED:20260421T195933Z
UID:10012292-1809543600-1809552600@www.downtownbrooklyn.com
SUMMARY:Sound + Fury Trivia Nights
DESCRIPTION:Wednesday night is Trivia Night at Sound + Fury\, where you can pit your trivia skills against others and compete for prizes. Craft beer and great food are\, of course\, all part of the evening’s festivities!
URL:https://www.downtownbrooklyn.com/event/sound-fury-trivia-nights/2027-05-05/
CATEGORIES:Games,Eat + Drink
ATTACH;FMTTYPE=image/jpeg:https://www.downtownbrooklyn.com/wp-content/uploads/2023/07/circa-brewing-people-drinking.jpg
END:VEVENT
BEGIN:VEVENT
DTSTART;TZID=America/New_York:20270512T190000
DTEND;TZID=America/New_York:20270512T213000
DTSTAMP:20260421T193308
CREATED:20260421T195933Z
LAST-MODIFIED:20260421T195933Z
UID:10012293-1810148400-1810157400@www.downtownbrooklyn.com
SUMMARY:Sound + Fury Trivia Nights
DESCRIPTION:Wednesday night is Trivia Night at Sound + Fury\, where you can pit your trivia skills against others and compete for prizes. Craft beer and great food are\, of course\, all part of the evening’s festivities!
URL:https://www.downtownbrooklyn.com/event/sound-fury-trivia-nights/2027-05-12/
CATEGORIES:Games,Eat + Drink
ATTACH;FMTTYPE=image/jpeg:https://www.downtownbrooklyn.com/wp-content/uploads/2023/07/circa-brewing-people-drinking.jpg
END:VEVENT
BEGIN:VEVENT
DTSTART;TZID=America/New_York:20270519T190000
DTEND;TZID=America/New_York:20270519T213000
DTSTAMP:20260421T193308
CREATED:20260421T195933Z
LAST-MODIFIED:20260421T195933Z
UID:10012294-1810753200-1810762200@www.downtownbrooklyn.com
SUMMARY:Sound + Fury Trivia Nights
DESCRIPTION:Wednesday night is Trivia Night at Sound + Fury\, where you can pit your trivia skills against others and compete for prizes. Craft beer and great food are\, of course\, all part of the evening’s festivities!
URL:https://www.downtownbrooklyn.com/event/sound-fury-trivia-nights/2027-05-19/
CATEGORIES:Games,Eat + Drink
ATTACH;FMTTYPE=image/jpeg:https://www.downtownbrooklyn.com/wp-content/uploads/2023/07/circa-brewing-people-drinking.jpg
END:VEVENT
BEGIN:VEVENT
DTSTART;TZID=America/New_York:20270526T190000
DTEND;TZID=America/New_York:20270526T213000
DTSTAMP:20260421T193308
CREATED:20260421T195933Z
LAST-MODIFIED:20260421T195933Z
UID:10012295-1811358000-1811367000@www.downtownbrooklyn.com
SUMMARY:Sound + Fury Trivia Nights
DESCRIPTION:Wednesday night is Trivia Night at Sound + Fury\, where you can pit your trivia skills against others and compete for prizes. Craft beer and great food are\, of course\, all part of the evening’s festivities!
URL:https://www.downtownbrooklyn.com/event/sound-fury-trivia-nights/2027-05-26/
CATEGORIES:Games,Eat + Drink
ATTACH;FMTTYPE=image/jpeg:https://www.downtownbrooklyn.com/wp-content/uploads/2023/07/circa-brewing-people-drinking.jpg
END:VEVENT
BEGIN:VEVENT
DTSTART;TZID=America/New_York:20270602T190000
DTEND;TZID=America/New_York:20270602T213000
DTSTAMP:20260421T193308
CREATED:20260421T195933Z
LAST-MODIFIED:20260421T195933Z
UID:10012296-1811962800-1811971800@www.downtownbrooklyn.com
SUMMARY:Sound + Fury Trivia Nights
DESCRIPTION:Wednesday night is Trivia Night at Sound + Fury\, where you can pit your trivia skills against others and compete for prizes. Craft beer and great food are\, of course\, all part of the evening’s festivities!
URL:https://www.downtownbrooklyn.com/event/sound-fury-trivia-nights/2027-06-02/
CATEGORIES:Games,Eat + Drink
ATTACH;FMTTYPE=image/jpeg:https://www.downtownbrooklyn.com/wp-content/uploads/2023/07/circa-brewing-people-drinking.jpg
END:VEVENT
BEGIN:VEVENT
DTSTART;TZID=America/New_York:20270609T190000
DTEND;TZID=America/New_York:20270609T213000
DTSTAMP:20260421T193308
CREATED:20260421T195933Z
LAST-MODIFIED:20260421T195933Z
UID:10012297-1812567600-1812576600@www.downtownbrooklyn.com
SUMMARY:Sound + Fury Trivia Nights
DESCRIPTION:Wednesday night is Trivia Night at Sound + Fury\, where you can pit your trivia skills against others and compete for prizes. Craft beer and great food are\, of course\, all part of the evening’s festivities!
URL:https://www.downtownbrooklyn.com/event/sound-fury-trivia-nights/2027-06-09/
CATEGORIES:Games,Eat + Drink
ATTACH;FMTTYPE=image/jpeg:https://www.downtownbrooklyn.com/wp-content/uploads/2023/07/circa-brewing-people-drinking.jpg
END:VEVENT
BEGIN:VEVENT
DTSTART;TZID=America/New_York:20270616T190000
DTEND;TZID=America/New_York:20270616T213000
DTSTAMP:20260421T193308
CREATED:20260421T195933Z
LAST-MODIFIED:20260421T195933Z
UID:10012298-1813172400-1813181400@www.downtownbrooklyn.com
SUMMARY:Sound + Fury Trivia Nights
DESCRIPTION:Wednesday night is Trivia Night at Sound + Fury\, where you can pit your trivia skills against others and compete for prizes. Craft beer and great food are\, of course\, all part of the evening’s festivities!
URL:https://www.downtownbrooklyn.com/event/sound-fury-trivia-nights/2027-06-16/
CATEGORIES:Games,Eat + Drink
ATTACH;FMTTYPE=image/jpeg:https://www.downtownbrooklyn.com/wp-content/uploads/2023/07/circa-brewing-people-drinking.jpg
END:VEVENT
BEGIN:VEVENT
DTSTART;TZID=America/New_York:20270623T190000
DTEND;TZID=America/New_York:20270623T213000
DTSTAMP:20260421T193308
CREATED:20260421T195933Z
LAST-MODIFIED:20260421T195933Z
UID:10012299-1813777200-1813786200@www.downtownbrooklyn.com
SUMMARY:Sound + Fury Trivia Nights
DESCRIPTION:Wednesday night is Trivia Night at Sound + Fury\, where you can pit your trivia skills against others and compete for prizes. Craft beer and great food are\, of course\, all part of the evening’s festivities!
URL:https://www.downtownbrooklyn.com/event/sound-fury-trivia-nights/2027-06-23/
CATEGORIES:Games,Eat + Drink
ATTACH;FMTTYPE=image/jpeg:https://www.downtownbrooklyn.com/wp-content/uploads/2023/07/circa-brewing-people-drinking.jpg
END:VEVENT
BEGIN:VEVENT
DTSTART;TZID=America/New_York:20270630T190000
DTEND;TZID=America/New_York:20270630T213000
DTSTAMP:20260421T193308
CREATED:20260421T195933Z
LAST-MODIFIED:20260421T195933Z
UID:10012300-1814382000-1814391000@www.downtownbrooklyn.com
SUMMARY:Sound + Fury Trivia Nights
DESCRIPTION:Wednesday night is Trivia Night at Sound + Fury\, where you can pit your trivia skills against others and compete for prizes. Craft beer and great food are\, of course\, all part of the evening’s festivities!
URL:https://www.downtownbrooklyn.com/event/sound-fury-trivia-nights/2027-06-30/
CATEGORIES:Games,Eat + Drink
ATTACH;FMTTYPE=image/jpeg:https://www.downtownbrooklyn.com/wp-content/uploads/2023/07/circa-brewing-people-drinking.jpg
END:VEVENT
BEGIN:VEVENT
DTSTART;TZID=America/New_York:20270707T190000
DTEND;TZID=America/New_York:20270707T213000
DTSTAMP:20260421T193308
CREATED:20260421T195933Z
LAST-MODIFIED:20260421T195933Z
UID:10012301-1814986800-1814995800@www.downtownbrooklyn.com
SUMMARY:Sound + Fury Trivia Nights
DESCRIPTION:Wednesday night is Trivia Night at Sound + Fury\, where you can pit your trivia skills against others and compete for prizes. Craft beer and great food are\, of course\, all part of the evening’s festivities!
URL:https://www.downtownbrooklyn.com/event/sound-fury-trivia-nights/2027-07-07/
CATEGORIES:Games,Eat + Drink
ATTACH;FMTTYPE=image/jpeg:https://www.downtownbrooklyn.com/wp-content/uploads/2023/07/circa-brewing-people-drinking.jpg
END:VEVENT
BEGIN:VEVENT
DTSTART;TZID=America/New_York:20270714T190000
DTEND;TZID=America/New_York:20270714T213000
DTSTAMP:20260421T193308
CREATED:20260421T195933Z
LAST-MODIFIED:20260421T195933Z
UID:10012302-1815591600-1815600600@www.downtownbrooklyn.com
SUMMARY:Sound + Fury Trivia Nights
DESCRIPTION:Wednesday night is Trivia Night at Sound + Fury\, where you can pit your trivia skills against others and compete for prizes. Craft beer and great food are\, of course\, all part of the evening’s festivities!
URL:https://www.downtownbrooklyn.com/event/sound-fury-trivia-nights/2027-07-14/
CATEGORIES:Games,Eat + Drink
ATTACH;FMTTYPE=image/jpeg:https://www.downtownbrooklyn.com/wp-content/uploads/2023/07/circa-brewing-people-drinking.jpg
END:VEVENT
BEGIN:VEVENT
DTSTART;TZID=America/New_York:20270721T190000
DTEND;TZID=America/New_York:20270721T213000
DTSTAMP:20260421T193308
CREATED:20260421T195933Z
LAST-MODIFIED:20260421T195933Z
UID:10012303-1816196400-1816205400@www.downtownbrooklyn.com
SUMMARY:Sound + Fury Trivia Nights
DESCRIPTION:Wednesday night is Trivia Night at Sound + Fury\, where you can pit your trivia skills against others and compete for prizes. Craft beer and great food are\, of course\, all part of the evening’s festivities!
URL:https://www.downtownbrooklyn.com/event/sound-fury-trivia-nights/2027-07-21/
CATEGORIES:Games,Eat + Drink
ATTACH;FMTTYPE=image/jpeg:https://www.downtownbrooklyn.com/wp-content/uploads/2023/07/circa-brewing-people-drinking.jpg
END:VEVENT
BEGIN:VEVENT
DTSTART;TZID=America/New_York:20270728T190000
DTEND;TZID=America/New_York:20270728T213000
DTSTAMP:20260421T193308
CREATED:20260421T195933Z
LAST-MODIFIED:20260421T195933Z
UID:10012304-1816801200-1816810200@www.downtownbrooklyn.com
SUMMARY:Sound + Fury Trivia Nights
DESCRIPTION:Wednesday night is Trivia Night at Sound + Fury\, where you can pit your trivia skills against others and compete for prizes. Craft beer and great food are\, of course\, all part of the evening’s festivities!
URL:https://www.downtownbrooklyn.com/event/sound-fury-trivia-nights/2027-07-28/
CATEGORIES:Games,Eat + Drink
ATTACH;FMTTYPE=image/jpeg:https://www.downtownbrooklyn.com/wp-content/uploads/2023/07/circa-brewing-people-drinking.jpg
END:VEVENT
BEGIN:VEVENT
DTSTART;TZID=America/New_York:20270804T190000
DTEND;TZID=America/New_York:20270804T213000
DTSTAMP:20260421T193308
CREATED:20260421T195933Z
LAST-MODIFIED:20260421T195933Z
UID:10012305-1817406000-1817415000@www.downtownbrooklyn.com
SUMMARY:Sound + Fury Trivia Nights
DESCRIPTION:Wednesday night is Trivia Night at Sound + Fury\, where you can pit your trivia skills against others and compete for prizes. Craft beer and great food are\, of course\, all part of the evening’s festivities!
URL:https://www.downtownbrooklyn.com/event/sound-fury-trivia-nights/2027-08-04/
CATEGORIES:Games,Eat + Drink
ATTACH;FMTTYPE=image/jpeg:https://www.downtownbrooklyn.com/wp-content/uploads/2023/07/circa-brewing-people-drinking.jpg
END:VEVENT
BEGIN:VEVENT
DTSTART;TZID=America/New_York:20270811T190000
DTEND;TZID=America/New_York:20270811T213000
DTSTAMP:20260421T193308
CREATED:20260421T195933Z
LAST-MODIFIED:20260421T195933Z
UID:10012306-1818010800-1818019800@www.downtownbrooklyn.com
SUMMARY:Sound + Fury Trivia Nights
DESCRIPTION:Wednesday night is Trivia Night at Sound + Fury\, where you can pit your trivia skills against others and compete for prizes. Craft beer and great food are\, of course\, all part of the evening’s festivities!
URL:https://www.downtownbrooklyn.com/event/sound-fury-trivia-nights/2027-08-11/
CATEGORIES:Games,Eat + Drink
ATTACH;FMTTYPE=image/jpeg:https://www.downtownbrooklyn.com/wp-content/uploads/2023/07/circa-brewing-people-drinking.jpg
END:VEVENT
BEGIN:VEVENT
DTSTART;TZID=America/New_York:20270818T190000
DTEND;TZID=America/New_York:20270818T213000
DTSTAMP:20260421T193308
CREATED:20260421T195933Z
LAST-MODIFIED:20260421T195933Z
UID:10012307-1818615600-1818624600@www.downtownbrooklyn.com
SUMMARY:Sound + Fury Trivia Nights
DESCRIPTION:Wednesday night is Trivia Night at Sound + Fury\, where you can pit your trivia skills against others and compete for prizes. Craft beer and great food are\, of course\, all part of the evening’s festivities!
URL:https://www.downtownbrooklyn.com/event/sound-fury-trivia-nights/2027-08-18/
CATEGORIES:Games,Eat + Drink
ATTACH;FMTTYPE=image/jpeg:https://www.downtownbrooklyn.com/wp-content/uploads/2023/07/circa-brewing-people-drinking.jpg
END:VEVENT
BEGIN:VEVENT
DTSTART;TZID=America/New_York:20270825T190000
DTEND;TZID=America/New_York:20270825T213000
DTSTAMP:20260421T193308
CREATED:20260421T195933Z
LAST-MODIFIED:20260421T195933Z
UID:10012308-1819220400-1819229400@www.downtownbrooklyn.com
SUMMARY:Sound + Fury Trivia Nights
DESCRIPTION:Wednesday night is Trivia Night at Sound + Fury\, where you can pit your trivia skills against others and compete for prizes. Craft beer and great food are\, of course\, all part of the evening’s festivities!
URL:https://www.downtownbrooklyn.com/event/sound-fury-trivia-nights/2027-08-25/
CATEGORIES:Games,Eat + Drink
ATTACH;FMTTYPE=image/jpeg:https://www.downtownbrooklyn.com/wp-content/uploads/2023/07/circa-brewing-people-drinking.jpg
END:VEVENT
BEGIN:VEVENT
DTSTART;TZID=America/New_York:20270901T190000
DTEND;TZID=America/New_York:20270901T213000
DTSTAMP:20260421T193308
CREATED:20260421T195933Z
LAST-MODIFIED:20260421T195933Z
UID:10012309-1819825200-1819834200@www.downtownbrooklyn.com
SUMMARY:Sound + Fury Trivia Nights
DESCRIPTION:Wednesday night is Trivia Night at Sound + Fury\, where you can pit your trivia skills against others and compete for prizes. Craft beer and great food are\, of course\, all part of the evening’s festivities!
URL:https://www.downtownbrooklyn.com/event/sound-fury-trivia-nights/2027-09-01/
CATEGORIES:Games,Eat + Drink
ATTACH;FMTTYPE=image/jpeg:https://www.downtownbrooklyn.com/wp-content/uploads/2023/07/circa-brewing-people-drinking.jpg
END:VEVENT
BEGIN:VEVENT
DTSTART;TZID=America/New_York:20270908T190000
DTEND;TZID=America/New_York:20270908T213000
DTSTAMP:20260421T193308
CREATED:20260421T195933Z
LAST-MODIFIED:20260421T195933Z
UID:10012310-1820430000-1820439000@www.downtownbrooklyn.com
SUMMARY:Sound + Fury Trivia Nights
DESCRIPTION:Wednesday night is Trivia Night at Sound + Fury\, where you can pit your trivia skills against others and compete for prizes. Craft beer and great food are\, of course\, all part of the evening’s festivities!
URL:https://www.downtownbrooklyn.com/event/sound-fury-trivia-nights/2027-09-08/
CATEGORIES:Games,Eat + Drink
ATTACH;FMTTYPE=image/jpeg:https://www.downtownbrooklyn.com/wp-content/uploads/2023/07/circa-brewing-people-drinking.jpg
END:VEVENT
BEGIN:VEVENT
DTSTART;TZID=America/New_York:20270915T190000
DTEND;TZID=America/New_York:20270915T213000
DTSTAMP:20260421T193308
CREATED:20260421T195933Z
LAST-MODIFIED:20260421T195933Z
UID:10012311-1821034800-1821043800@www.downtownbrooklyn.com
SUMMARY:Sound + Fury Trivia Nights
DESCRIPTION:Wednesday night is Trivia Night at Sound + Fury\, where you can pit your trivia skills against others and compete for prizes. Craft beer and great food are\, of course\, all part of the evening’s festivities!
URL:https://www.downtownbrooklyn.com/event/sound-fury-trivia-nights/2027-09-15/
CATEGORIES:Games,Eat + Drink
ATTACH;FMTTYPE=image/jpeg:https://www.downtownbrooklyn.com/wp-content/uploads/2023/07/circa-brewing-people-drinking.jpg
END:VEVENT
BEGIN:VEVENT
DTSTART;TZID=America/New_York:20270922T190000
DTEND;TZID=America/New_York:20270922T213000
DTSTAMP:20260421T193308
CREATED:20260421T195933Z
LAST-MODIFIED:20260421T195933Z
UID:10012312-1821639600-1821648600@www.downtownbrooklyn.com
SUMMARY:Sound + Fury Trivia Nights
DESCRIPTION:Wednesday night is Trivia Night at Sound + Fury\, where you can pit your trivia skills against others and compete for prizes. Craft beer and great food are\, of course\, all part of the evening’s festivities!
URL:https://www.downtownbrooklyn.com/event/sound-fury-trivia-nights/2027-09-22/
CATEGORIES:Games,Eat + Drink
ATTACH;FMTTYPE=image/jpeg:https://www.downtownbrooklyn.com/wp-content/uploads/2023/07/circa-brewing-people-drinking.jpg
END:VEVENT
BEGIN:VEVENT
DTSTART;TZID=America/New_York:20270929T190000
DTEND;TZID=America/New_York:20270929T213000
DTSTAMP:20260421T193308
CREATED:20260421T195933Z
LAST-MODIFIED:20260421T195933Z
UID:10012313-1822244400-1822253400@www.downtownbrooklyn.com
SUMMARY:Sound + Fury Trivia Nights
DESCRIPTION:Wednesday night is Trivia Night at Sound + Fury\, where you can pit your trivia skills against others and compete for prizes. Craft beer and great food are\, of course\, all part of the evening’s festivities!
URL:https://www.downtownbrooklyn.com/event/sound-fury-trivia-nights/2027-09-29/
CATEGORIES:Games,Eat + Drink
ATTACH;FMTTYPE=image/jpeg:https://www.downtownbrooklyn.com/wp-content/uploads/2023/07/circa-brewing-people-drinking.jpg
END:VEVENT
BEGIN:VEVENT
DTSTART;TZID=America/New_York:20271006T190000
DTEND;TZID=America/New_York:20271006T213000
DTSTAMP:20260421T193308
CREATED:20260421T195933Z
LAST-MODIFIED:20260421T195933Z
UID:10012314-1822849200-1822858200@www.downtownbrooklyn.com
SUMMARY:Sound + Fury Trivia Nights
DESCRIPTION:Wednesday night is Trivia Night at Sound + Fury\, where you can pit your trivia skills against others and compete for prizes. Craft beer and great food are\, of course\, all part of the evening’s festivities!
URL:https://www.downtownbrooklyn.com/event/sound-fury-trivia-nights/2027-10-06/
CATEGORIES:Games,Eat + Drink
ATTACH;FMTTYPE=image/jpeg:https://www.downtownbrooklyn.com/wp-content/uploads/2023/07/circa-brewing-people-drinking.jpg
END:VEVENT
BEGIN:VEVENT
DTSTART;TZID=America/New_York:20271013T190000
DTEND;TZID=America/New_York:20271013T213000
DTSTAMP:20260421T193308
CREATED:20260421T195933Z
LAST-MODIFIED:20260421T195933Z
UID:10012315-1823454000-1823463000@www.downtownbrooklyn.com
SUMMARY:Sound + Fury Trivia Nights
DESCRIPTION:Wednesday night is Trivia Night at Sound + Fury\, where you can pit your trivia skills against others and compete for prizes. Craft beer and great food are\, of course\, all part of the evening’s festivities!
URL:https://www.downtownbrooklyn.com/event/sound-fury-trivia-nights/2027-10-13/
CATEGORIES:Games,Eat + Drink
ATTACH;FMTTYPE=image/jpeg:https://www.downtownbrooklyn.com/wp-content/uploads/2023/07/circa-brewing-people-drinking.jpg
END:VEVENT
BEGIN:VEVENT
DTSTART;TZID=America/New_York:20271020T190000
DTEND;TZID=America/New_York:20271020T213000
DTSTAMP:20260421T193308
CREATED:20260421T195933Z
LAST-MODIFIED:20260421T195933Z
UID:10012316-1824058800-1824067800@www.downtownbrooklyn.com
SUMMARY:Sound + Fury Trivia Nights
DESCRIPTION:Wednesday night is Trivia Night at Sound + Fury\, where you can pit your trivia skills against others and compete for prizes. Craft beer and great food are\, of course\, all part of the evening’s festivities!
URL:https://www.downtownbrooklyn.com/event/sound-fury-trivia-nights/2027-10-20/
CATEGORIES:Games,Eat + Drink
ATTACH;FMTTYPE=image/jpeg:https://www.downtownbrooklyn.com/wp-content/uploads/2023/07/circa-brewing-people-drinking.jpg
END:VEVENT
END:VCALENDAR