BEGIN:VCALENDAR
VERSION:2.0
PRODID:-//Downtown Brooklyn - ECPv6.15.20//NONSGML v1.0//EN
CALSCALE:GREGORIAN
METHOD:PUBLISH
X-WR-CALNAME:Downtown Brooklyn
X-ORIGINAL-URL:https://www.downtownbrooklyn.com
X-WR-CALDESC:Events for Downtown Brooklyn
REFRESH-INTERVAL;VALUE=DURATION:PT1H
X-Robots-Tag:noindex
X-PUBLISHED-TTL:PT1H
BEGIN:VTIMEZONE
TZID:America/New_York
BEGIN:DAYLIGHT
TZOFFSETFROM:-0500
TZOFFSETTO:-0400
TZNAME:EDT
DTSTART:20240310T070000
END:DAYLIGHT
BEGIN:STANDARD
TZOFFSETFROM:-0400
TZOFFSETTO:-0500
TZNAME:EST
DTSTART:20241103T060000
END:STANDARD
BEGIN:DAYLIGHT
TZOFFSETFROM:-0500
TZOFFSETTO:-0400
TZNAME:EDT
DTSTART:20250309T070000
END:DAYLIGHT
BEGIN:STANDARD
TZOFFSETFROM:-0400
TZOFFSETTO:-0500
TZNAME:EST
DTSTART:20251102T060000
END:STANDARD
BEGIN:DAYLIGHT
TZOFFSETFROM:-0500
TZOFFSETTO:-0400
TZNAME:EDT
DTSTART:20260308T070000
END:DAYLIGHT
BEGIN:STANDARD
TZOFFSETFROM:-0400
TZOFFSETTO:-0500
TZNAME:EST
DTSTART:20261101T060000
END:STANDARD
BEGIN:DAYLIGHT
TZOFFSETFROM:-0500
TZOFFSETTO:-0400
TZNAME:EDT
DTSTART:20270314T070000
END:DAYLIGHT
BEGIN:STANDARD
TZOFFSETFROM:-0400
TZOFFSETTO:-0500
TZNAME:EST
DTSTART:20271107T060000
END:STANDARD
END:VTIMEZONE
BEGIN:VEVENT
DTSTART;TZID=America/New_York:20260416T180000
DTEND;TZID=America/New_York:20260416T210000
DTSTAMP:20260421T150123
CREATED:20260414T142044Z
LAST-MODIFIED:20260414T142044Z
UID:10012191-1776362400-1776373200@www.downtownbrooklyn.com
SUMMARY:Mizik Ayiti! Residency Spring Series | Twoubadou Lakay
DESCRIPTION:Join Haiti Cultural Exchange on Thursdays for the Mizik Ayiti! Residency Series. The Spring residency will be held by Twoubadou Lakay. \nTwoubadou Lakay is a collective of master musicians rooted in the rich traditions of Haitian music. The ensemble blends the storytelling spirit and dancing guitars of Haitian Twoubadou with deep Haitian rhythms\, jazz sensibilities\, and improvisational dialogue. Twoubadou Lakay is tradition reimagined through a contemporary lens. Their sound is both intimate and expansive—grounded in lakou culture\, yet reaching across the diaspora—creating a musical space where heritage\, memory\, and innovation meet. \nTwoubadou Lakay’s Haiti Cultural Exchange residency will feature core members Bobby Raymond\, Markus Schwartz\, Gary Josama\, Gama Josama\, Joe Montour\, Camille Hostin and Roland Cameau in revolving formations. Twoubadou Lakay invites audiences into a living\, breathing experience of Haitian musical expression—honoring the past while shaping its future. \nTwoubadou Lakay’s five-week residency at HCX will feature unique performances weekly.
URL:https://www.downtownbrooklyn.com/event/mizik-ayiti-residency-spring-series-twoubadou-lakay/2026-04-16/
CATEGORIES:Free,Art,Music,Brooklyn Cultural District
ATTACH;FMTTYPE=image/jpeg:https://www.downtownbrooklyn.com/wp-content/uploads/2026/04/https___cdn.evbuc_.com_images_1181335695_4653831367_1_original-1.jpg
END:VEVENT
BEGIN:VEVENT
DTSTART;TZID=America/New_York:20260415T180000
DTEND;TZID=America/New_York:20260415T200000
DTSTAMP:20260421T150123
CREATED:20260414T123502Z
LAST-MODIFIED:20260414T123502Z
UID:10012203-1776276000-1776283200@www.downtownbrooklyn.com
SUMMARY:Woody Wednesdays
DESCRIPTION:Woody Wednesdays (and one Woody Thursday) bring together NYU students\, alumni\, and guest artists for acoustic sets inside the exhibition Woody Guthrie: What This Guitar Might Do. Each night features artists reinterpreting Guthrie’s work alongside original songs. \nFeel free to drop by\, no registration is needed. \nWednesday April 15\, 6:00 – 8:00 pm\n\n\n\n\n\n\n\nPerforming artists: \n\nHannah Hoberman (Gallatin 2027)\nNora Conlon\nDrake Hunt\n\nWednesday April 22\, 6:00 – 8:00 pm\nPerforming artists: \n\nSofia D’Angelo\nGoldfish Funeral (Jack Bobley) (Tish 2026)\nStevie Bill\n\nThursday April 30\, 6:00 – 8:00 pm\nPerforming artists: \n\nCaleb Moore (Steinhardt\, 2022)\nCalling Margaret (Genevieve Kleyhans) (Tisch\, 2026)\nRemi Baker (Clive Davis Institute\, 2026)
URL:https://www.downtownbrooklyn.com/event/woody-wednesdays/2026-04-15/
CATEGORIES:Free,Art,Music
ATTACH;FMTTYPE=image/png:https://www.downtownbrooklyn.com/wp-content/uploads/2026/04/woody-guthrie.png
END:VEVENT
BEGIN:VEVENT
DTSTART;TZID=America/New_York:20260404T193000
DTEND;TZID=America/New_York:20260404T213000
DTSTAMP:20260421T150123
CREATED:20260328T002603Z
LAST-MODIFIED:20260328T002604Z
UID:10012125-1775331000-1775338200@www.downtownbrooklyn.com
SUMMARY:Teatro La Plaza's Hamlet
DESCRIPTION:“★★★★★ Brilliant …This infectiously exuberant production serves as a reminder that Shakespeare is accessible to all\, and Hamlet is for everyone” The Telegraph \n“A performance like none I’ve ever witnessed during my 30-plus years of writing about entertainment and arts and culture … the complete definition of theatre for the mind\, spirit\, soul and imagination … The troupe delivers an all-encompassing crossover narrative that penetrates the heart.” The Chicago Tribune \n“★★★★★ “The ferocious\, left‑field freshness of its approach… shaken up\, translated\, fragmented\, relived and reconstructed in spectacular style … offering a non‑stop feast of new insights … the show still ends with an exhilarated audience leaping up to dance onstage with the company; thrilled by the joy\, the irreverence\, the profound insight\, and the deep sense of human solidarity”  The Scotsman \nIn this brilliant\, funny\, and moving adaptation\, Peruvian director Chela De Ferrari intertwines the text of Shakespeare’s Hamlet with the lived experiences of a young ensemble of eight actors with Down syndrome. With wry humor\, playful energy\, pop music\, and pointed critique\, the performers confront the play’s timeless themes—grief\, revenge\, and existence—with striking honesty and insight. Drawing resonant parallels between Shakespeare’s Denmark and our contemporary world\, they offer a vision of a more just and joyful imagined future.
URL:https://www.downtownbrooklyn.com/event/teatro-la-plazas-hamlet-2/2026-04-04/2/
CATEGORIES:Art,Theater
ATTACH;FMTTYPE=image/jpeg:https://www.downtownbrooklyn.com/wp-content/uploads/2026/03/Hamlet_WEBnodate3-scaled-1.jpg
END:VEVENT
BEGIN:VEVENT
DTSTART;TZID=America/New_York:20260404T140000
DTEND;TZID=America/New_York:20260404T160000
DTSTAMP:20260421T150123
CREATED:20260328T002603Z
LAST-MODIFIED:20260328T002604Z
UID:10012124-1775311200-1775318400@www.downtownbrooklyn.com
SUMMARY:Teatro La Plaza's Hamlet
DESCRIPTION:“★★★★★ Brilliant …This infectiously exuberant production serves as a reminder that Shakespeare is accessible to all\, and Hamlet is for everyone” The Telegraph \n“A performance like none I’ve ever witnessed during my 30-plus years of writing about entertainment and arts and culture … the complete definition of theatre for the mind\, spirit\, soul and imagination … The troupe delivers an all-encompassing crossover narrative that penetrates the heart.” The Chicago Tribune \n“★★★★★ “The ferocious\, left‑field freshness of its approach… shaken up\, translated\, fragmented\, relived and reconstructed in spectacular style … offering a non‑stop feast of new insights … the show still ends with an exhilarated audience leaping up to dance onstage with the company; thrilled by the joy\, the irreverence\, the profound insight\, and the deep sense of human solidarity”  The Scotsman \nIn this brilliant\, funny\, and moving adaptation\, Peruvian director Chela De Ferrari intertwines the text of Shakespeare’s Hamlet with the lived experiences of a young ensemble of eight actors with Down syndrome. With wry humor\, playful energy\, pop music\, and pointed critique\, the performers confront the play’s timeless themes—grief\, revenge\, and existence—with striking honesty and insight. Drawing resonant parallels between Shakespeare’s Denmark and our contemporary world\, they offer a vision of a more just and joyful imagined future.
URL:https://www.downtownbrooklyn.com/event/teatro-la-plazas-hamlet-2/2026-04-04/1/
CATEGORIES:Art,Theater
ATTACH;FMTTYPE=image/jpeg:https://www.downtownbrooklyn.com/wp-content/uploads/2026/03/Hamlet_WEBnodate3-scaled-1.jpg
END:VEVENT
BEGIN:VEVENT
DTSTART;TZID=America/New_York:20260403T193000
DTEND;TZID=America/New_York:20260403T213000
DTSTAMP:20260421T150123
CREATED:20260328T002603Z
LAST-MODIFIED:20260328T002604Z
UID:10012123-1775244600-1775251800@www.downtownbrooklyn.com
SUMMARY:Teatro La Plaza's Hamlet
DESCRIPTION:“★★★★★ Brilliant …This infectiously exuberant production serves as a reminder that Shakespeare is accessible to all\, and Hamlet is for everyone” The Telegraph \n“A performance like none I’ve ever witnessed during my 30-plus years of writing about entertainment and arts and culture … the complete definition of theatre for the mind\, spirit\, soul and imagination … The troupe delivers an all-encompassing crossover narrative that penetrates the heart.” The Chicago Tribune \n“★★★★★ “The ferocious\, left‑field freshness of its approach… shaken up\, translated\, fragmented\, relived and reconstructed in spectacular style … offering a non‑stop feast of new insights … the show still ends with an exhilarated audience leaping up to dance onstage with the company; thrilled by the joy\, the irreverence\, the profound insight\, and the deep sense of human solidarity”  The Scotsman \nIn this brilliant\, funny\, and moving adaptation\, Peruvian director Chela De Ferrari intertwines the text of Shakespeare’s Hamlet with the lived experiences of a young ensemble of eight actors with Down syndrome. With wry humor\, playful energy\, pop music\, and pointed critique\, the performers confront the play’s timeless themes—grief\, revenge\, and existence—with striking honesty and insight. Drawing resonant parallels between Shakespeare’s Denmark and our contemporary world\, they offer a vision of a more just and joyful imagined future.
URL:https://www.downtownbrooklyn.com/event/teatro-la-plazas-hamlet-2/2026-04-03/
CATEGORIES:Art,Theater
ATTACH;FMTTYPE=image/jpeg:https://www.downtownbrooklyn.com/wp-content/uploads/2026/03/Hamlet_WEBnodate3-scaled-1.jpg
END:VEVENT
BEGIN:VEVENT
DTSTART;TZID=America/New_York:20260402T193000
DTEND;TZID=America/New_York:20260402T213000
DTSTAMP:20260421T150123
CREATED:20260328T002603Z
LAST-MODIFIED:20260328T002604Z
UID:10012122-1775158200-1775165400@www.downtownbrooklyn.com
SUMMARY:Teatro La Plaza's Hamlet
DESCRIPTION:“★★★★★ Brilliant …This infectiously exuberant production serves as a reminder that Shakespeare is accessible to all\, and Hamlet is for everyone” The Telegraph \n“A performance like none I’ve ever witnessed during my 30-plus years of writing about entertainment and arts and culture … the complete definition of theatre for the mind\, spirit\, soul and imagination … The troupe delivers an all-encompassing crossover narrative that penetrates the heart.” The Chicago Tribune \n“★★★★★ “The ferocious\, left‑field freshness of its approach… shaken up\, translated\, fragmented\, relived and reconstructed in spectacular style … offering a non‑stop feast of new insights … the show still ends with an exhilarated audience leaping up to dance onstage with the company; thrilled by the joy\, the irreverence\, the profound insight\, and the deep sense of human solidarity”  The Scotsman \nIn this brilliant\, funny\, and moving adaptation\, Peruvian director Chela De Ferrari intertwines the text of Shakespeare’s Hamlet with the lived experiences of a young ensemble of eight actors with Down syndrome. With wry humor\, playful energy\, pop music\, and pointed critique\, the performers confront the play’s timeless themes—grief\, revenge\, and existence—with striking honesty and insight. Drawing resonant parallels between Shakespeare’s Denmark and our contemporary world\, they offer a vision of a more just and joyful imagined future.
URL:https://www.downtownbrooklyn.com/event/teatro-la-plazas-hamlet-2/2026-04-02/
CATEGORIES:Art,Theater
ATTACH;FMTTYPE=image/jpeg:https://www.downtownbrooklyn.com/wp-content/uploads/2026/03/Hamlet_WEBnodate3-scaled-1.jpg
END:VEVENT
BEGIN:VEVENT
DTSTART;TZID=America/New_York:20260401T193000
DTEND;TZID=America/New_York:20260401T213000
DTSTAMP:20260421T150123
CREATED:20260328T002603Z
LAST-MODIFIED:20260328T002604Z
UID:10012121-1775071800-1775079000@www.downtownbrooklyn.com
SUMMARY:Teatro La Plaza's Hamlet
DESCRIPTION:“★★★★★ Brilliant …This infectiously exuberant production serves as a reminder that Shakespeare is accessible to all\, and Hamlet is for everyone” The Telegraph \n“A performance like none I’ve ever witnessed during my 30-plus years of writing about entertainment and arts and culture … the complete definition of theatre for the mind\, spirit\, soul and imagination … The troupe delivers an all-encompassing crossover narrative that penetrates the heart.” The Chicago Tribune \n“★★★★★ “The ferocious\, left‑field freshness of its approach… shaken up\, translated\, fragmented\, relived and reconstructed in spectacular style … offering a non‑stop feast of new insights … the show still ends with an exhilarated audience leaping up to dance onstage with the company; thrilled by the joy\, the irreverence\, the profound insight\, and the deep sense of human solidarity”  The Scotsman \nIn this brilliant\, funny\, and moving adaptation\, Peruvian director Chela De Ferrari intertwines the text of Shakespeare’s Hamlet with the lived experiences of a young ensemble of eight actors with Down syndrome. With wry humor\, playful energy\, pop music\, and pointed critique\, the performers confront the play’s timeless themes—grief\, revenge\, and existence—with striking honesty and insight. Drawing resonant parallels between Shakespeare’s Denmark and our contemporary world\, they offer a vision of a more just and joyful imagined future.
URL:https://www.downtownbrooklyn.com/event/teatro-la-plazas-hamlet-2/2026-04-01/
CATEGORIES:Art,Theater
ATTACH;FMTTYPE=image/jpeg:https://www.downtownbrooklyn.com/wp-content/uploads/2026/03/Hamlet_WEBnodate3-scaled-1.jpg
END:VEVENT
BEGIN:VEVENT
DTSTART;TZID=America/New_York:20260331T193000
DTEND;TZID=America/New_York:20260331T213000
DTSTAMP:20260421T150123
CREATED:20260328T002603Z
LAST-MODIFIED:20260328T002604Z
UID:10012120-1774985400-1774992600@www.downtownbrooklyn.com
SUMMARY:Teatro La Plaza's Hamlet
DESCRIPTION:“★★★★★ Brilliant …This infectiously exuberant production serves as a reminder that Shakespeare is accessible to all\, and Hamlet is for everyone” The Telegraph \n“A performance like none I’ve ever witnessed during my 30-plus years of writing about entertainment and arts and culture … the complete definition of theatre for the mind\, spirit\, soul and imagination … The troupe delivers an all-encompassing crossover narrative that penetrates the heart.” The Chicago Tribune \n“★★★★★ “The ferocious\, left‑field freshness of its approach… shaken up\, translated\, fragmented\, relived and reconstructed in spectacular style … offering a non‑stop feast of new insights … the show still ends with an exhilarated audience leaping up to dance onstage with the company; thrilled by the joy\, the irreverence\, the profound insight\, and the deep sense of human solidarity”  The Scotsman \nIn this brilliant\, funny\, and moving adaptation\, Peruvian director Chela De Ferrari intertwines the text of Shakespeare’s Hamlet with the lived experiences of a young ensemble of eight actors with Down syndrome. With wry humor\, playful energy\, pop music\, and pointed critique\, the performers confront the play’s timeless themes—grief\, revenge\, and existence—with striking honesty and insight. Drawing resonant parallels between Shakespeare’s Denmark and our contemporary world\, they offer a vision of a more just and joyful imagined future.
URL:https://www.downtownbrooklyn.com/event/teatro-la-plazas-hamlet-2/2026-03-31/
CATEGORIES:Art,Theater
ATTACH;FMTTYPE=image/jpeg:https://www.downtownbrooklyn.com/wp-content/uploads/2026/03/Hamlet_WEBnodate3-scaled-1.jpg
END:VEVENT
BEGIN:VEVENT
DTSTART;TZID=America/New_York:20260329T140000
DTEND;TZID=America/New_York:20260329T160000
DTSTAMP:20260421T150123
CREATED:20260328T002603Z
LAST-MODIFIED:20260328T002604Z
UID:10012119-1774792800-1774800000@www.downtownbrooklyn.com
SUMMARY:Teatro La Plaza's Hamlet
DESCRIPTION:“★★★★★ Brilliant …This infectiously exuberant production serves as a reminder that Shakespeare is accessible to all\, and Hamlet is for everyone” The Telegraph \n“A performance like none I’ve ever witnessed during my 30-plus years of writing about entertainment and arts and culture … the complete definition of theatre for the mind\, spirit\, soul and imagination … The troupe delivers an all-encompassing crossover narrative that penetrates the heart.” The Chicago Tribune \n“★★★★★ “The ferocious\, left‑field freshness of its approach… shaken up\, translated\, fragmented\, relived and reconstructed in spectacular style … offering a non‑stop feast of new insights … the show still ends with an exhilarated audience leaping up to dance onstage with the company; thrilled by the joy\, the irreverence\, the profound insight\, and the deep sense of human solidarity”  The Scotsman \nIn this brilliant\, funny\, and moving adaptation\, Peruvian director Chela De Ferrari intertwines the text of Shakespeare’s Hamlet with the lived experiences of a young ensemble of eight actors with Down syndrome. With wry humor\, playful energy\, pop music\, and pointed critique\, the performers confront the play’s timeless themes—grief\, revenge\, and existence—with striking honesty and insight. Drawing resonant parallels between Shakespeare’s Denmark and our contemporary world\, they offer a vision of a more just and joyful imagined future.
URL:https://www.downtownbrooklyn.com/event/teatro-la-plazas-hamlet-2/2026-03-29/
CATEGORIES:Art,Theater
ATTACH;FMTTYPE=image/jpeg:https://www.downtownbrooklyn.com/wp-content/uploads/2026/03/Hamlet_WEBnodate3-scaled-1.jpg
END:VEVENT
BEGIN:VEVENT
DTSTART;TZID=America/New_York:20260328T193000
DTEND;TZID=America/New_York:20260328T213000
DTSTAMP:20260421T150123
CREATED:20260328T002603Z
LAST-MODIFIED:20260328T002604Z
UID:10012118-1774726200-1774733400@www.downtownbrooklyn.com
SUMMARY:Teatro La Plaza's Hamlet
DESCRIPTION:“★★★★★ Brilliant …This infectiously exuberant production serves as a reminder that Shakespeare is accessible to all\, and Hamlet is for everyone” The Telegraph \n“A performance like none I’ve ever witnessed during my 30-plus years of writing about entertainment and arts and culture … the complete definition of theatre for the mind\, spirit\, soul and imagination … The troupe delivers an all-encompassing crossover narrative that penetrates the heart.” The Chicago Tribune \n“★★★★★ “The ferocious\, left‑field freshness of its approach… shaken up\, translated\, fragmented\, relived and reconstructed in spectacular style … offering a non‑stop feast of new insights … the show still ends with an exhilarated audience leaping up to dance onstage with the company; thrilled by the joy\, the irreverence\, the profound insight\, and the deep sense of human solidarity”  The Scotsman \nIn this brilliant\, funny\, and moving adaptation\, Peruvian director Chela De Ferrari intertwines the text of Shakespeare’s Hamlet with the lived experiences of a young ensemble of eight actors with Down syndrome. With wry humor\, playful energy\, pop music\, and pointed critique\, the performers confront the play’s timeless themes—grief\, revenge\, and existence—with striking honesty and insight. Drawing resonant parallels between Shakespeare’s Denmark and our contemporary world\, they offer a vision of a more just and joyful imagined future.
URL:https://www.downtownbrooklyn.com/event/teatro-la-plazas-hamlet-2/2026-03-28/2/
CATEGORIES:Art,Theater
ATTACH;FMTTYPE=image/jpeg:https://www.downtownbrooklyn.com/wp-content/uploads/2026/03/Hamlet_WEBnodate3-scaled-1.jpg
END:VEVENT
BEGIN:VEVENT
DTSTART;TZID=America/New_York:20260328T140000
DTEND;TZID=America/New_York:20260328T160000
DTSTAMP:20260421T150123
CREATED:20260328T002603Z
LAST-MODIFIED:20260328T002604Z
UID:10012117-1774706400-1774713600@www.downtownbrooklyn.com
SUMMARY:Teatro La Plaza's Hamlet
DESCRIPTION:“★★★★★ Brilliant …This infectiously exuberant production serves as a reminder that Shakespeare is accessible to all\, and Hamlet is for everyone” The Telegraph \n“A performance like none I’ve ever witnessed during my 30-plus years of writing about entertainment and arts and culture … the complete definition of theatre for the mind\, spirit\, soul and imagination … The troupe delivers an all-encompassing crossover narrative that penetrates the heart.” The Chicago Tribune \n“★★★★★ “The ferocious\, left‑field freshness of its approach… shaken up\, translated\, fragmented\, relived and reconstructed in spectacular style … offering a non‑stop feast of new insights … the show still ends with an exhilarated audience leaping up to dance onstage with the company; thrilled by the joy\, the irreverence\, the profound insight\, and the deep sense of human solidarity”  The Scotsman \nIn this brilliant\, funny\, and moving adaptation\, Peruvian director Chela De Ferrari intertwines the text of Shakespeare’s Hamlet with the lived experiences of a young ensemble of eight actors with Down syndrome. With wry humor\, playful energy\, pop music\, and pointed critique\, the performers confront the play’s timeless themes—grief\, revenge\, and existence—with striking honesty and insight. Drawing resonant parallels between Shakespeare’s Denmark and our contemporary world\, they offer a vision of a more just and joyful imagined future.
URL:https://www.downtownbrooklyn.com/event/teatro-la-plazas-hamlet-2/2026-03-28/1/
CATEGORIES:Art,Theater
ATTACH;FMTTYPE=image/jpeg:https://www.downtownbrooklyn.com/wp-content/uploads/2026/03/Hamlet_WEBnodate3-scaled-1.jpg
END:VEVENT
BEGIN:VEVENT
DTSTART;TZID=America/New_York:20260327T193000
DTEND;TZID=America/New_York:20260327T213000
DTSTAMP:20260421T150123
CREATED:20260328T002603Z
LAST-MODIFIED:20260328T002604Z
UID:10012116-1774639800-1774647000@www.downtownbrooklyn.com
SUMMARY:Teatro La Plaza's Hamlet
DESCRIPTION:“★★★★★ Brilliant …This infectiously exuberant production serves as a reminder that Shakespeare is accessible to all\, and Hamlet is for everyone” The Telegraph \n“A performance like none I’ve ever witnessed during my 30-plus years of writing about entertainment and arts and culture … the complete definition of theatre for the mind\, spirit\, soul and imagination … The troupe delivers an all-encompassing crossover narrative that penetrates the heart.” The Chicago Tribune \n“★★★★★ “The ferocious\, left‑field freshness of its approach… shaken up\, translated\, fragmented\, relived and reconstructed in spectacular style … offering a non‑stop feast of new insights … the show still ends with an exhilarated audience leaping up to dance onstage with the company; thrilled by the joy\, the irreverence\, the profound insight\, and the deep sense of human solidarity”  The Scotsman \nIn this brilliant\, funny\, and moving adaptation\, Peruvian director Chela De Ferrari intertwines the text of Shakespeare’s Hamlet with the lived experiences of a young ensemble of eight actors with Down syndrome. With wry humor\, playful energy\, pop music\, and pointed critique\, the performers confront the play’s timeless themes—grief\, revenge\, and existence—with striking honesty and insight. Drawing resonant parallels between Shakespeare’s Denmark and our contemporary world\, they offer a vision of a more just and joyful imagined future.
URL:https://www.downtownbrooklyn.com/event/teatro-la-plazas-hamlet-2/2026-03-27/
CATEGORIES:Art,Theater
ATTACH;FMTTYPE=image/jpeg:https://www.downtownbrooklyn.com/wp-content/uploads/2026/03/Hamlet_WEBnodate3-scaled-1.jpg
END:VEVENT
BEGIN:VEVENT
DTSTART;TZID=America/New_York:20260326T193000
DTEND;TZID=America/New_York:20260326T213000
DTSTAMP:20260421T150123
CREATED:20260326T202454Z
LAST-MODIFIED:20260326T202454Z
UID:10012115-1774553400-1774560600@www.downtownbrooklyn.com
SUMMARY:Teatro La Plaza's Hamlet
DESCRIPTION:“★★★★★ Brilliant …This infectiously exuberant production serves as a reminder that Shakespeare is accessible to all\, and Hamlet is for everyone” The Telegraph \n“A performance like none I’ve ever witnessed during my 30-plus years of writing about entertainment and arts and culture … the complete definition of theatre for the mind\, spirit\, soul and imagination … The troupe delivers an all-encompassing crossover narrative that penetrates the heart.” The Chicago Tribune \n“★★★★★ “The ferocious\, left‑field freshness of its approach… shaken up\, translated\, fragmented\, relived and reconstructed in spectacular style … offering a non‑stop feast of new insights … the show still ends with an exhilarated audience leaping up to dance onstage with the company; thrilled by the joy\, the irreverence\, the profound insight\, and the deep sense of human solidarity”  The Scotsman \nIn this brilliant\, funny\, and moving adaptation\, Peruvian director Chela De Ferrari intertwines the text of Shakespeare’s Hamlet with the lived experiences of a young ensemble of eight actors with Down syndrome. With wry humor\, playful energy\, pop music\, and pointed critique\, the performers confront the play’s timeless themes—grief\, revenge\, and existence—with striking honesty and insight. Drawing resonant parallels between Shakespeare’s Denmark and our contemporary world\, they offer a vision of a more just and joyful imagined future.
URL:https://www.downtownbrooklyn.com/event/teatro-la-plazas-hamlet/2026-03-26/
CATEGORIES:Art,Theater
ATTACH;FMTTYPE=image/jpeg:https://www.downtownbrooklyn.com/wp-content/uploads/2026/03/Hamlet_WEBnodate3-scaled-1.jpg
END:VEVENT
BEGIN:VEVENT
DTSTART;TZID=America/New_York:20260325T193000
DTEND;TZID=America/New_York:20260325T213000
DTSTAMP:20260421T150123
CREATED:20260326T202454Z
LAST-MODIFIED:20260326T202454Z
UID:10012114-1774467000-1774474200@www.downtownbrooklyn.com
SUMMARY:Teatro La Plaza's Hamlet
DESCRIPTION:“★★★★★ Brilliant …This infectiously exuberant production serves as a reminder that Shakespeare is accessible to all\, and Hamlet is for everyone” The Telegraph \n“A performance like none I’ve ever witnessed during my 30-plus years of writing about entertainment and arts and culture … the complete definition of theatre for the mind\, spirit\, soul and imagination … The troupe delivers an all-encompassing crossover narrative that penetrates the heart.” The Chicago Tribune \n“★★★★★ “The ferocious\, left‑field freshness of its approach… shaken up\, translated\, fragmented\, relived and reconstructed in spectacular style … offering a non‑stop feast of new insights … the show still ends with an exhilarated audience leaping up to dance onstage with the company; thrilled by the joy\, the irreverence\, the profound insight\, and the deep sense of human solidarity”  The Scotsman \nIn this brilliant\, funny\, and moving adaptation\, Peruvian director Chela De Ferrari intertwines the text of Shakespeare’s Hamlet with the lived experiences of a young ensemble of eight actors with Down syndrome. With wry humor\, playful energy\, pop music\, and pointed critique\, the performers confront the play’s timeless themes—grief\, revenge\, and existence—with striking honesty and insight. Drawing resonant parallels between Shakespeare’s Denmark and our contemporary world\, they offer a vision of a more just and joyful imagined future.
URL:https://www.downtownbrooklyn.com/event/teatro-la-plazas-hamlet/2026-03-25/
CATEGORIES:Art,Theater
ATTACH;FMTTYPE=image/jpeg:https://www.downtownbrooklyn.com/wp-content/uploads/2026/03/Hamlet_WEBnodate3-scaled-1.jpg
END:VEVENT
BEGIN:VEVENT
DTSTART;TZID=America/New_York:20250615T120000
DTEND;TZID=America/New_York:20250615T170000
DTSTAMP:20260421T150123
CREATED:20250609T172148Z
LAST-MODIFIED:20250609T172323Z
UID:10008230-1749988800-1750006800@www.downtownbrooklyn.com
SUMMARY:Open Garden NYC
DESCRIPTION:Join NYC Parks\, Greenthumb\, and Rockwell Bears for Open Garden NYC. Enjoy art projects\, musical performances\, games for kids\, and relaxation in the garden!
URL:https://www.downtownbrooklyn.com/event/open-garden-nyc/2025-06-15/
CATEGORIES:Free,Art,Music,Games,Family-friendly
ATTACH;FMTTYPE=image/jpeg:https://www.downtownbrooklyn.com/wp-content/uploads/2025/06/rockwell-garden.jpg
END:VEVENT
BEGIN:VEVENT
DTSTART;TZID=America/New_York:20250614T100000
DTEND;TZID=America/New_York:20250614T150000
DTSTAMP:20260421T150123
CREATED:20250609T172148Z
LAST-MODIFIED:20250609T172323Z
UID:10008229-1749895200-1749913200@www.downtownbrooklyn.com
SUMMARY:Open Garden NYC
DESCRIPTION:Join NYC Parks\, Greenthumb\, and Rockwell Bears for Open Garden NYC. Enjoy art projects\, musical performances\, games for kids\, and relaxation in the garden!
URL:https://www.downtownbrooklyn.com/event/open-garden-nyc/2025-06-14/
CATEGORIES:Free,Art,Music,Games,Family-friendly
ATTACH;FMTTYPE=image/jpeg:https://www.downtownbrooklyn.com/wp-content/uploads/2025/06/rockwell-garden.jpg
END:VEVENT
END:VCALENDAR