BEGIN:VCALENDAR
VERSION:2.0
PRODID:-//Downtown Brooklyn - ECPv6.15.20//NONSGML v1.0//EN
CALSCALE:GREGORIAN
METHOD:PUBLISH
X-WR-CALNAME:Downtown Brooklyn
X-ORIGINAL-URL:https://www.downtownbrooklyn.com
X-WR-CALDESC:Events for Downtown Brooklyn
REFRESH-INTERVAL;VALUE=DURATION:PT1H
X-Robots-Tag:noindex
X-PUBLISHED-TTL:PT1H
BEGIN:VTIMEZONE
TZID:America/New_York
BEGIN:DAYLIGHT
TZOFFSETFROM:-0500
TZOFFSETTO:-0400
TZNAME:EDT
DTSTART:20250309T070000
END:DAYLIGHT
BEGIN:STANDARD
TZOFFSETFROM:-0400
TZOFFSETTO:-0500
TZNAME:EST
DTSTART:20251102T060000
END:STANDARD
BEGIN:DAYLIGHT
TZOFFSETFROM:-0500
TZOFFSETTO:-0400
TZNAME:EDT
DTSTART:20260308T070000
END:DAYLIGHT
BEGIN:STANDARD
TZOFFSETFROM:-0400
TZOFFSETTO:-0500
TZNAME:EST
DTSTART:20261101T060000
END:STANDARD
BEGIN:DAYLIGHT
TZOFFSETFROM:-0500
TZOFFSETTO:-0400
TZNAME:EDT
DTSTART:20270314T070000
END:DAYLIGHT
BEGIN:STANDARD
TZOFFSETFROM:-0400
TZOFFSETTO:-0500
TZNAME:EST
DTSTART:20271107T060000
END:STANDARD
END:VTIMEZONE
BEGIN:VEVENT
DTSTART;TZID=America/New_York:20260430T180000
DTEND;TZID=America/New_York:20260430T200000
DTSTAMP:20260421T154815
CREATED:20260414T123502Z
LAST-MODIFIED:20260414T123502Z
UID:10012205-1777572000-1777579200@www.downtownbrooklyn.com
SUMMARY:Woody Wednesdays
DESCRIPTION:Woody Wednesdays (and one Woody Thursday) bring together NYU students\, alumni\, and guest artists for acoustic sets inside the exhibition Woody Guthrie: What This Guitar Might Do. Each night features artists reinterpreting Guthrie’s work alongside original songs. \nFeel free to drop by\, no registration is needed. \nWednesday April 15\, 6:00 – 8:00 pm\n\n\n\n\n\n\n\nPerforming artists: \n\nHannah Hoberman (Gallatin 2027)\nNora Conlon\nDrake Hunt\n\nWednesday April 22\, 6:00 – 8:00 pm\nPerforming artists: \n\nSofia D’Angelo\nGoldfish Funeral (Jack Bobley) (Tish 2026)\nStevie Bill\n\nThursday April 30\, 6:00 – 8:00 pm\nPerforming artists: \n\nCaleb Moore (Steinhardt\, 2022)\nCalling Margaret (Genevieve Kleyhans) (Tisch\, 2026)\nRemi Baker (Clive Davis Institute\, 2026)
URL:https://www.downtownbrooklyn.com/event/woody-wednesdays/2026-04-30/
CATEGORIES:Free,Art,Music
ATTACH;FMTTYPE=image/png:https://www.downtownbrooklyn.com/wp-content/uploads/2026/04/woody-guthrie.png
END:VEVENT
BEGIN:VEVENT
DTSTART;TZID=America/New_York:20260430T180000
DTEND;TZID=America/New_York:20260430T210000
DTSTAMP:20260421T154815
CREATED:20260414T142044Z
LAST-MODIFIED:20260414T142044Z
UID:10012193-1777572000-1777582800@www.downtownbrooklyn.com
SUMMARY:Mizik Ayiti! Residency Spring Series | Twoubadou Lakay
DESCRIPTION:Join Haiti Cultural Exchange on Thursdays for the Mizik Ayiti! Residency Series. The Spring residency will be held by Twoubadou Lakay. \nTwoubadou Lakay is a collective of master musicians rooted in the rich traditions of Haitian music. The ensemble blends the storytelling spirit and dancing guitars of Haitian Twoubadou with deep Haitian rhythms\, jazz sensibilities\, and improvisational dialogue. Twoubadou Lakay is tradition reimagined through a contemporary lens. Their sound is both intimate and expansive—grounded in lakou culture\, yet reaching across the diaspora—creating a musical space where heritage\, memory\, and innovation meet. \nTwoubadou Lakay’s Haiti Cultural Exchange residency will feature core members Bobby Raymond\, Markus Schwartz\, Gary Josama\, Gama Josama\, Joe Montour\, Camille Hostin and Roland Cameau in revolving formations. Twoubadou Lakay invites audiences into a living\, breathing experience of Haitian musical expression—honoring the past while shaping its future. \nTwoubadou Lakay’s five-week residency at HCX will feature unique performances weekly.
URL:https://www.downtownbrooklyn.com/event/mizik-ayiti-residency-spring-series-twoubadou-lakay/2026-04-30/
CATEGORIES:Free,Art,Music,Brooklyn Cultural District
ATTACH;FMTTYPE=image/jpeg:https://www.downtownbrooklyn.com/wp-content/uploads/2026/04/https___cdn.evbuc_.com_images_1181335695_4653831367_1_original-1.jpg
END:VEVENT
END:VCALENDAR