BEGIN:VCALENDAR
VERSION:2.0
PRODID:-//Downtown Brooklyn - ECPv6.15.20//NONSGML v1.0//EN
CALSCALE:GREGORIAN
METHOD:PUBLISH
X-WR-CALNAME:Downtown Brooklyn
X-ORIGINAL-URL:https://www.downtownbrooklyn.com
X-WR-CALDESC:Events for Downtown Brooklyn
REFRESH-INTERVAL;VALUE=DURATION:PT1H
X-Robots-Tag:noindex
X-PUBLISHED-TTL:PT1H
BEGIN:VTIMEZONE
TZID:America/New_York
BEGIN:DAYLIGHT
TZOFFSETFROM:-0500
TZOFFSETTO:-0400
TZNAME:EDT
DTSTART:20250309T070000
END:DAYLIGHT
BEGIN:STANDARD
TZOFFSETFROM:-0400
TZOFFSETTO:-0500
TZNAME:EST
DTSTART:20251102T060000
END:STANDARD
BEGIN:DAYLIGHT
TZOFFSETFROM:-0500
TZOFFSETTO:-0400
TZNAME:EDT
DTSTART:20260308T070000
END:DAYLIGHT
BEGIN:STANDARD
TZOFFSETFROM:-0400
TZOFFSETTO:-0500
TZNAME:EST
DTSTART:20261101T060000
END:STANDARD
BEGIN:DAYLIGHT
TZOFFSETFROM:-0500
TZOFFSETTO:-0400
TZNAME:EDT
DTSTART:20270314T070000
END:DAYLIGHT
BEGIN:STANDARD
TZOFFSETFROM:-0400
TZOFFSETTO:-0500
TZNAME:EST
DTSTART:20271107T060000
END:STANDARD
END:VTIMEZONE
BEGIN:VEVENT
DTSTART;TZID=America/New_York:20260429T200000
DTEND;TZID=America/New_York:20260429T220000
DTSTAMP:20260421T154826
CREATED:20260421T174929Z
LAST-MODIFIED:20260421T174929Z
UID:10012218-1777492800-1777500000@www.downtownbrooklyn.com
SUMMARY:goat (jp) - Long Play Festival
DESCRIPTION:Perhaps the tightest band in existence\, goat (jp) take the micro-precision of computer music and reinterpret it on live instruments. Founded in 2013 in Osaka\, goat have redefined minimalism by prioritizing pure percussive interplay over melody—using guitar\, bass\, drums\, and percussion. Their intricate rhythmic architectures blur the line between mechanical precision and organic fluidity\, using harmonics outside standard tonality\, muted bass tones\, and interlocking drum patterns. The result is a relentless\, hypnotic sound—one that pulses like an urban ritual\, at once tribal and futuristic. \nIn their much-anticipated New York return\, goat can be counted on to make a devilish display of interlocking\, pointillist guitar\, bass\, drums and sax\, conjuring musical textures that have destroyed audiences from Japan to Europe and most recently the West Coast. \nYou can get access to this show with Long Play Supporter Pass or single-event ticket from Roulette. \n\nBang on a Can presents the 5th year of Long Play\, a four-day destination music festival\, presented from Thursday\, April 30 through Sunday\, May 3\, 2026. Long Play takes place at multiple venues around Downtown Brooklyn and features 70+ concerts\, including the Bang on a Can All-Stars playing a brand new arrangement of the iconic Philip Glass album Glassworks in its entirety and Julia Wolfe’s Pulitzer prize-winning Anthracite Fields with Trinity Choir\, Steve Reich’s classic Sextet plus Electric Counterpoint performed live by 13 electric guitarists\, the legendary Billy Hart Quartet\, the esteemed and extraordinary Amina Claudine Myers\, and the US premiere of Kali Malone. \nFull 4-day and Supporter Passes are on sale now\, as well as 1-day Saturday and Sunday passes. Roulette Members get 20% off full Long Play festival passes! Email development@roulette.org for more information.
URL:https://www.downtownbrooklyn.com/event/goat-jp-long-play-festival/
CATEGORIES:Art,Festivals,Music,Brooklyn Cultural District
ATTACH;FMTTYPE=image/png:https://www.downtownbrooklyn.com/wp-content/uploads/2026/04/goat-jp.png
END:VEVENT
END:VCALENDAR