BEGIN:VCALENDAR
VERSION:2.0
PRODID:-//Downtown Brooklyn - ECPv6.15.20//NONSGML v1.0//EN
CALSCALE:GREGORIAN
METHOD:PUBLISH
X-ORIGINAL-URL:https://www.downtownbrooklyn.com
X-WR-CALDESC:Events for Downtown Brooklyn
REFRESH-INTERVAL;VALUE=DURATION:PT1H
X-Robots-Tag:noindex
X-PUBLISHED-TTL:PT1H
BEGIN:VTIMEZONE
TZID:America/New_York
BEGIN:DAYLIGHT
TZOFFSETFROM:-0500
TZOFFSETTO:-0400
TZNAME:EDT
DTSTART:20250309T070000
END:DAYLIGHT
BEGIN:STANDARD
TZOFFSETFROM:-0400
TZOFFSETTO:-0500
TZNAME:EST
DTSTART:20251102T060000
END:STANDARD
BEGIN:DAYLIGHT
TZOFFSETFROM:-0500
TZOFFSETTO:-0400
TZNAME:EDT
DTSTART:20260308T070000
END:DAYLIGHT
BEGIN:STANDARD
TZOFFSETFROM:-0400
TZOFFSETTO:-0500
TZNAME:EST
DTSTART:20261101T060000
END:STANDARD
BEGIN:DAYLIGHT
TZOFFSETFROM:-0500
TZOFFSETTO:-0400
TZNAME:EDT
DTSTART:20270314T070000
END:DAYLIGHT
BEGIN:STANDARD
TZOFFSETFROM:-0400
TZOFFSETTO:-0500
TZNAME:EST
DTSTART:20271107T060000
END:STANDARD
END:VTIMEZONE
BEGIN:VEVENT
DTSTART;TZID=America/New_York:20260425T180000
DTEND;TZID=America/New_York:20260425T210000
DTSTAMP:20260421T172857
CREATED:20260421T175241Z
LAST-MODIFIED:20260421T175241Z
UID:10012228-1777140000-1777150800@www.downtownbrooklyn.com
SUMMARY:Vizyon Atistik | OPENING NIGHT | What Paper Remembers: Marks\, Memory and Labor
DESCRIPTION:Join us for the opening reception of What Paper Remembers: Marks\, Memory and Labor on April 25\, 2026\, presented by Haiti Cultural Exchange\, Vizyon Atistik. \nOn view from April 25 through June 7 \nAbout the Exhibition \nThrough drawing\, printmaking\, collage\, and mixed media\, the exhibition considers paper as a material that carries memory\, labor\, and cultural continuity. Paper absorbs gesture records pressure and hesitation\, time\, revision and return\, while holding traces of the hand and the persistence of ideas.  Centering practices shaped by embodied knowledge and movement across place\, the exhibition affirms paper not as a provisional surface\, but as one that remembers and endures. \nCurated by HCX fellow Yvena Despagne and Executive Director Régine M. Roumain. \nFeatured Artists \nSally Yolaine Binard | Ani Brutus | Jennica Drice | Mel Isidor | Nathalie Jean-Baptiste | Rejin Leys | Julie Rouzier Mevs | Vané Russo \nLearn more about the exhibition and artists here » \nJoin the artists & curators for other activations taking place as part of this exhibition »
URL:https://www.downtownbrooklyn.com/event/vizyon-atistik-opening-night-what-paper-remembers-marks-memory-and-labor/
CATEGORIES:Free,Art,Tours + Open Houses,Brooklyn Cultural District
ATTACH;FMTTYPE=image/png:https://www.downtownbrooklyn.com/wp-content/uploads/2026/04/HCX_FY26_VizyonAtistik_Paper_Website_Graphic_Opening-Reception.png
END:VEVENT
END:VCALENDAR