BEGIN:VCALENDAR
VERSION:2.0
PRODID:-//Downtown Brooklyn - ECPv6.15.20//NONSGML v1.0//EN
CALSCALE:GREGORIAN
METHOD:PUBLISH
X-ORIGINAL-URL:https://www.downtownbrooklyn.com
X-WR-CALDESC:Events for Downtown Brooklyn
REFRESH-INTERVAL;VALUE=DURATION:PT1H
X-Robots-Tag:noindex
X-PUBLISHED-TTL:PT1H
BEGIN:VTIMEZONE
TZID:America/New_York
BEGIN:DAYLIGHT
TZOFFSETFROM:-0500
TZOFFSETTO:-0400
TZNAME:EDT
DTSTART:20250309T070000
END:DAYLIGHT
BEGIN:STANDARD
TZOFFSETFROM:-0400
TZOFFSETTO:-0500
TZNAME:EST
DTSTART:20251102T060000
END:STANDARD
BEGIN:DAYLIGHT
TZOFFSETFROM:-0500
TZOFFSETTO:-0400
TZNAME:EDT
DTSTART:20260308T070000
END:DAYLIGHT
BEGIN:STANDARD
TZOFFSETFROM:-0400
TZOFFSETTO:-0500
TZNAME:EST
DTSTART:20261101T060000
END:STANDARD
BEGIN:DAYLIGHT
TZOFFSETFROM:-0500
TZOFFSETTO:-0400
TZNAME:EDT
DTSTART:20270314T070000
END:DAYLIGHT
BEGIN:STANDARD
TZOFFSETFROM:-0400
TZOFFSETTO:-0500
TZNAME:EST
DTSTART:20271107T060000
END:STANDARD
END:VTIMEZONE
BEGIN:VEVENT
DTSTART;TZID=America/New_York:20260422T180000
DTEND;TZID=America/New_York:20260422T200000
DTSTAMP:20260421T141632
CREATED:20260414T123502Z
LAST-MODIFIED:20260414T123502Z
UID:10012204-1776880800-1776888000@www.downtownbrooklyn.com
SUMMARY:Woody Wednesdays
DESCRIPTION:Woody Wednesdays (and one Woody Thursday) bring together NYU students\, alumni\, and guest artists for acoustic sets inside the exhibition Woody Guthrie: What This Guitar Might Do. Each night features artists reinterpreting Guthrie’s work alongside original songs. \nFeel free to drop by\, no registration is needed. \nWednesday April 15\, 6:00 – 8:00 pm\n\n\n\n\n\n\n\nPerforming artists: \n\nHannah Hoberman (Gallatin 2027)\nNora Conlon\nDrake Hunt\n\nWednesday April 22\, 6:00 – 8:00 pm\nPerforming artists: \n\nSofia D’Angelo\nGoldfish Funeral (Jack Bobley) (Tish 2026)\nStevie Bill\n\nThursday April 30\, 6:00 – 8:00 pm\nPerforming artists: \n\nCaleb Moore (Steinhardt\, 2022)\nCalling Margaret (Genevieve Kleyhans) (Tisch\, 2026)\nRemi Baker (Clive Davis Institute\, 2026)
URL:https://www.downtownbrooklyn.com/event/woody-wednesdays/2026-04-22/
CATEGORIES:Free,Art,Music
ATTACH;FMTTYPE=image/png:https://www.downtownbrooklyn.com/wp-content/uploads/2026/04/woody-guthrie.png
END:VEVENT
BEGIN:VEVENT
DTSTART;TZID=America/New_York:20260422T180000
DTEND;TZID=America/New_York:20260422T210000
DTSTAMP:20260421T141632
CREATED:20260421T175332Z
LAST-MODIFIED:20260421T175332Z
UID:10012230-1776880800-1776891600@www.downtownbrooklyn.com
SUMMARY:Teen Takeover: BRIC Fellowships
DESCRIPTION:Join us for a night of teen art and films\, curated by the 2026 BRIC Youth Fellows. \nExperience the opening of ULTRAVIOLET\, an exhibition showcasing the work of emerging teen visual artists\, curated by the 2026 Youth Curatorial Fellows. Then\, catch Concrete Stories\, a screening of original short films by teen filmmakers\, curated by the BRIC Youth Media Fellows.
URL:https://www.downtownbrooklyn.com/event/teen-takeover-bric-fellowships/
CATEGORIES:Free,Art,Film,Brooklyn Cultural District
ATTACH;FMTTYPE=image/png:https://www.downtownbrooklyn.com/wp-content/uploads/2026/04/Event-photos-10.png
END:VEVENT
END:VCALENDAR