BEGIN:VCALENDAR
VERSION:2.0
PRODID:-//Downtown Brooklyn - ECPv6.15.20//NONSGML v1.0//EN
CALSCALE:GREGORIAN
METHOD:PUBLISH
X-WR-CALNAME:Downtown Brooklyn
X-ORIGINAL-URL:https://www.downtownbrooklyn.com
X-WR-CALDESC:Events for Downtown Brooklyn
REFRESH-INTERVAL;VALUE=DURATION:PT1H
X-Robots-Tag:noindex
X-PUBLISHED-TTL:PT1H
BEGIN:VTIMEZONE
TZID:America/New_York
BEGIN:DAYLIGHT
TZOFFSETFROM:-0500
TZOFFSETTO:-0400
TZNAME:EDT
DTSTART:20250309T070000
END:DAYLIGHT
BEGIN:STANDARD
TZOFFSETFROM:-0400
TZOFFSETTO:-0500
TZNAME:EST
DTSTART:20251102T060000
END:STANDARD
BEGIN:DAYLIGHT
TZOFFSETFROM:-0500
TZOFFSETTO:-0400
TZNAME:EDT
DTSTART:20260308T070000
END:DAYLIGHT
BEGIN:STANDARD
TZOFFSETFROM:-0400
TZOFFSETTO:-0500
TZNAME:EST
DTSTART:20261101T060000
END:STANDARD
BEGIN:DAYLIGHT
TZOFFSETFROM:-0500
TZOFFSETTO:-0400
TZNAME:EDT
DTSTART:20270314T070000
END:DAYLIGHT
BEGIN:STANDARD
TZOFFSETFROM:-0400
TZOFFSETTO:-0500
TZNAME:EST
DTSTART:20271107T060000
END:STANDARD
END:VTIMEZONE
BEGIN:VEVENT
DTSTART;TZID=America/New_York:20260507T180000
DTEND;TZID=America/New_York:20260507T210000
DTSTAMP:20260421T201634
CREATED:20260414T142044Z
LAST-MODIFIED:20260414T142044Z
UID:10012194-1778176800-1778187600@www.downtownbrooklyn.com
SUMMARY:Mizik Ayiti! Residency Spring Series | Twoubadou Lakay
DESCRIPTION:Join Haiti Cultural Exchange on Thursdays for the Mizik Ayiti! Residency Series. The Spring residency will be held by Twoubadou Lakay. \nTwoubadou Lakay is a collective of master musicians rooted in the rich traditions of Haitian music. The ensemble blends the storytelling spirit and dancing guitars of Haitian Twoubadou with deep Haitian rhythms\, jazz sensibilities\, and improvisational dialogue. Twoubadou Lakay is tradition reimagined through a contemporary lens. Their sound is both intimate and expansive—grounded in lakou culture\, yet reaching across the diaspora—creating a musical space where heritage\, memory\, and innovation meet. \nTwoubadou Lakay’s Haiti Cultural Exchange residency will feature core members Bobby Raymond\, Markus Schwartz\, Gary Josama\, Gama Josama\, Joe Montour\, Camille Hostin and Roland Cameau in revolving formations. Twoubadou Lakay invites audiences into a living\, breathing experience of Haitian musical expression—honoring the past while shaping its future. \nTwoubadou Lakay’s five-week residency at HCX will feature unique performances weekly.
URL:https://www.downtownbrooklyn.com/event/mizik-ayiti-residency-spring-series-twoubadou-lakay/2026-05-07/
CATEGORIES:Free,Art,Music,Brooklyn Cultural District
ATTACH;FMTTYPE=image/jpeg:https://www.downtownbrooklyn.com/wp-content/uploads/2026/04/https___cdn.evbuc_.com_images_1181335695_4653831367_1_original-1.jpg
END:VEVENT
BEGIN:VEVENT
DTSTART;TZID=America/New_York:20260510T140000
DTEND;TZID=America/New_York:20260510T180000
DTSTAMP:20260421T201634
CREATED:20260421T175125Z
LAST-MODIFIED:20260421T175125Z
UID:10012225-1778421600-1778436000@www.downtownbrooklyn.com
SUMMARY:Interactive Telecommunications Program (ITP) / Interactive Media Arts (IMA) Spring Show
DESCRIPTION:A two-day exhibition of creative interactive projects from NYU’s ITP\, IMA & Low Res.
URL:https://www.downtownbrooklyn.com/event/interactive-telecommunications-program-itp-interactive-media-arts-ima-spring-show/2026-05-10/
CATEGORIES:Free,Art,Tours + Open Houses
ATTACH;FMTTYPE=image/png:https://www.downtownbrooklyn.com/wp-content/uploads/2026/04/Event-photos-7.png
END:VEVENT
BEGIN:VEVENT
DTSTART;TZID=America/New_York:20260511T160000
DTEND;TZID=America/New_York:20260511T200000
DTSTAMP:20260421T201634
CREATED:20260421T175125Z
LAST-MODIFIED:20260421T175125Z
UID:10012226-1778515200-1778529600@www.downtownbrooklyn.com
SUMMARY:Interactive Telecommunications Program (ITP) / Interactive Media Arts (IMA) Spring Show
DESCRIPTION:A two-day exhibition of creative interactive projects from NYU’s ITP\, IMA & Low Res.
URL:https://www.downtownbrooklyn.com/event/interactive-telecommunications-program-itp-interactive-media-arts-ima-spring-show/2026-05-11/
CATEGORIES:Free,Art,Tours + Open Houses
ATTACH;FMTTYPE=image/png:https://www.downtownbrooklyn.com/wp-content/uploads/2026/04/Event-photos-7.png
END:VEVENT
BEGIN:VEVENT
DTSTART;TZID=America/New_York:20260514T180000
DTEND;TZID=America/New_York:20260514T210000
DTSTAMP:20260421T201634
CREATED:20260414T142044Z
LAST-MODIFIED:20260414T142044Z
UID:10012195-1778781600-1778792400@www.downtownbrooklyn.com
SUMMARY:Mizik Ayiti! Residency Spring Series | Twoubadou Lakay
DESCRIPTION:Join Haiti Cultural Exchange on Thursdays for the Mizik Ayiti! Residency Series. The Spring residency will be held by Twoubadou Lakay. \nTwoubadou Lakay is a collective of master musicians rooted in the rich traditions of Haitian music. The ensemble blends the storytelling spirit and dancing guitars of Haitian Twoubadou with deep Haitian rhythms\, jazz sensibilities\, and improvisational dialogue. Twoubadou Lakay is tradition reimagined through a contemporary lens. Their sound is both intimate and expansive—grounded in lakou culture\, yet reaching across the diaspora—creating a musical space where heritage\, memory\, and innovation meet. \nTwoubadou Lakay’s Haiti Cultural Exchange residency will feature core members Bobby Raymond\, Markus Schwartz\, Gary Josama\, Gama Josama\, Joe Montour\, Camille Hostin and Roland Cameau in revolving formations. Twoubadou Lakay invites audiences into a living\, breathing experience of Haitian musical expression—honoring the past while shaping its future. \nTwoubadou Lakay’s five-week residency at HCX will feature unique performances weekly.
URL:https://www.downtownbrooklyn.com/event/mizik-ayiti-residency-spring-series-twoubadou-lakay/2026-05-14/
CATEGORIES:Free,Art,Music,Brooklyn Cultural District
ATTACH;FMTTYPE=image/jpeg:https://www.downtownbrooklyn.com/wp-content/uploads/2026/04/https___cdn.evbuc_.com_images_1181335695_4653831367_1_original-1.jpg
END:VEVENT
BEGIN:VEVENT
DTSTART;TZID=America/New_York:20260523T120000
DTEND;TZID=America/New_York:20260523T220000
DTSTAMP:20260421T201634
CREATED:20260414T143422Z
LAST-MODIFIED:20260414T145050Z
UID:10012182-1779537600-1779573600@www.downtownbrooklyn.com
SUMMARY:BAM DanceAfrica Outdoor Bazaar
DESCRIPTION:The nation’s largest celebration of African diasporic dance and music returns for its 49th year this Memorial Day Weekend. BAM DanceAfrica’s global marketplace of Black arts and crafts will be on the Plaza again this year.
URL:https://www.downtownbrooklyn.com/event/bam-danceafrica-outdoor-bazaar/2026-05-23/
CATEGORIES:Downtown Brooklyn Presents,Free,Art,Markets,Music,Dance
ATTACH;FMTTYPE=image/jpeg:https://www.downtownbrooklyn.com/wp-content/uploads/2026/04/bam_da2024_bazaar_tony-turner-1952-1.jpg
END:VEVENT
BEGIN:VEVENT
DTSTART;TZID=America/New_York:20260524T120000
DTEND;TZID=America/New_York:20260524T200000
DTSTAMP:20260421T201634
CREATED:20260414T143422Z
LAST-MODIFIED:20260414T145050Z
UID:10012183-1779624000-1779652800@www.downtownbrooklyn.com
SUMMARY:BAM DanceAfrica Outdoor Bazaar
DESCRIPTION:The nation’s largest celebration of African diasporic dance and music returns for its 49th year this Memorial Day Weekend. BAM DanceAfrica’s global marketplace of Black arts and crafts will be on the Plaza again this year.
URL:https://www.downtownbrooklyn.com/event/bam-danceafrica-outdoor-bazaar/2026-05-24/
CATEGORIES:Downtown Brooklyn Presents,Free,Art,Markets,Music,Dance
ATTACH;FMTTYPE=image/jpeg:https://www.downtownbrooklyn.com/wp-content/uploads/2026/04/bam_da2024_bazaar_tony-turner-1952-1.jpg
END:VEVENT
BEGIN:VEVENT
DTSTART;TZID=America/New_York:20260525T120000
DTEND;TZID=America/New_York:20260525T200000
DTSTAMP:20260421T201634
CREATED:20260414T143422Z
LAST-MODIFIED:20260414T145050Z
UID:10012184-1779710400-1779739200@www.downtownbrooklyn.com
SUMMARY:BAM DanceAfrica Outdoor Bazaar
DESCRIPTION:The nation’s largest celebration of African diasporic dance and music returns for its 49th year this Memorial Day Weekend. BAM DanceAfrica’s global marketplace of Black arts and crafts will be on the Plaza again this year.
URL:https://www.downtownbrooklyn.com/event/bam-danceafrica-outdoor-bazaar/2026-05-25/
CATEGORIES:Downtown Brooklyn Presents,Free,Art,Markets,Music,Dance
ATTACH;FMTTYPE=image/jpeg:https://www.downtownbrooklyn.com/wp-content/uploads/2026/04/bam_da2024_bazaar_tony-turner-1952-1.jpg
END:VEVENT
END:VCALENDAR